BEGIN:VCALENDAR
VERSION:2.0
PRODID:-//Tom&#039;s Watch Bar - ECPv6.15.18//NONSGML v1.0//EN
CALSCALE:GREGORIAN
METHOD:PUBLISH
X-WR-CALNAME:Tom&#039;s Watch Bar
X-ORIGINAL-URL:https://tomswatchbar.com
X-WR-CALDESC:Events for Tom&#039;s Watch Bar
REFRESH-INTERVAL;VALUE=DURATION:PT1H
X-Robots-Tag:noindex
X-PUBLISHED-TTL:PT1H
BEGIN:VTIMEZONE
TZID:America/New_York
BEGIN:DAYLIGHT
TZOFFSETFROM:-0500
TZOFFSETTO:-0400
TZNAME:EDT
DTSTART:20250309T070000
END:DAYLIGHT
BEGIN:STANDARD
TZOFFSETFROM:-0400
TZOFFSETTO:-0500
TZNAME:EST
DTSTART:20251102T060000
END:STANDARD
BEGIN:DAYLIGHT
TZOFFSETFROM:-0500
TZOFFSETTO:-0400
TZNAME:EDT
DTSTART:20260308T070000
END:DAYLIGHT
BEGIN:STANDARD
TZOFFSETFROM:-0400
TZOFFSETTO:-0500
TZNAME:EST
DTSTART:20261101T060000
END:STANDARD
BEGIN:DAYLIGHT
TZOFFSETFROM:-0500
TZOFFSETTO:-0400
TZNAME:EDT
DTSTART:20270314T070000
END:DAYLIGHT
BEGIN:STANDARD
TZOFFSETFROM:-0400
TZOFFSETTO:-0500
TZNAME:EST
DTSTART:20271107T060000
END:STANDARD
END:VTIMEZONE
BEGIN:VEVENT
DTSTART;TZID=America/New_York:20260304T143000
DTEND;TZID=America/New_York:20260304T173000
DTSTAMP:20260420T055536
CREATED:20260303T215756Z
LAST-MODIFIED:20260310T123116Z
UID:10008993-1772634600-1772645400@tomswatchbar.com
SUMMARY:NCAA-B (W): Saint Louis (11) VS Fordham (14)
DESCRIPTION:The Best Place to Watch NCAA-B (W): Saint Louis (11) VS Fordham (14) is at Tom’s Watch Bar! Tom’s Watch Bar is the home for NCAA-B (W)
URL:https://tomswatchbar.com/event/ncaa-b-w-saint-louis-11-vs-fordham-14/
LOCATION:ALL\, United States
CATEGORIES:NCAA-B (W)
END:VEVENT
BEGIN:VEVENT
DTSTART;TZID=America/New_York:20260304T133000
DTEND;TZID=America/New_York:20260304T163000
DTSTAMP:20260420T055536
CREATED:20260303T215741Z
LAST-MODIFIED:20260310T123107Z
UID:10008992-1772631000-1772641800@tomswatchbar.com
SUMMARY:NCAA-B (W): Little Rock (5) VS SEMO (8)
DESCRIPTION:The Best Place to Watch NCAA-B (W): Little Rock (5) VS SEMO (8) is at Tom’s Watch Bar! Tom’s Watch Bar is the home for NCAA-B (W)
URL:https://tomswatchbar.com/event/ncaa-b-w-little-rock-5-vs-semo-8/
LOCATION:ALL\, United States
CATEGORIES:NCAA-B (W)
END:VEVENT
BEGIN:VEVENT
DTSTART;TZID=America/New_York:20260304T123000
DTEND;TZID=America/New_York:20260304T153000
DTSTAMP:20260420T055536
CREATED:20260303T215739Z
LAST-MODIFIED:20260310T123106Z
UID:10008991-1772627400-1772638200@tomswatchbar.com
SUMMARY:NCAA-B (W): Coastal Carolina (9) VS TBD
DESCRIPTION:The Best Place to Watch NCAA-B (W): Coastal Carolina (9) VS TBD is at Tom’s Watch Bar! Tom’s Watch Bar is the home for NCAA-B (W)
URL:https://tomswatchbar.com/event/ncaa-b-w-coastal-carolina-9-vs-tbd/
LOCATION:ALL\, United States
CATEGORIES:NCAA-B (W)
END:VEVENT
BEGIN:VEVENT
DTSTART;TZID=America/New_York:20260304T120000
DTEND;TZID=America/New_York:20260304T150000
DTSTAMP:20260420T055536
CREATED:20260303T215737Z
LAST-MODIFIED:20260310T123104Z
UID:10008990-1772625600-1772636400@tomswatchbar.com
SUMMARY:NCAA-B (W): Duquesne VS VCU
DESCRIPTION:The Best Place to Watch NCAA-B (W): Duquesne VS VCU is at Tom’s Watch Bar! Tom’s Watch Bar is the home for NCAA-B (W)
URL:https://tomswatchbar.com/event/ncaa-b-w-duquesne-vs-vcu/
LOCATION:ALL\, United States
CATEGORIES:NCAA-B (W)
END:VEVENT
BEGIN:VEVENT
DTSTART;TZID=America/New_York:20260303T193000
DTEND;TZID=America/New_York:20260303T223000
DTSTAMP:20260420T055536
CREATED:20260303T215735Z
LAST-MODIFIED:20260310T123102Z
UID:10008989-1772566200-1772577000@tomswatchbar.com
SUMMARY:NCAA-B (W): North Alabama VS Queens NC
DESCRIPTION:The Best Place to Watch NCAA-B (W): North Alabama VS Queens NC is at Tom’s Watch Bar! Tom’s Watch Bar is the home for NCAA-B (W)
URL:https://tomswatchbar.com/event/ncaa-b-w-north-alabama-vs-queens-nc/
LOCATION:ALL\, United States
CATEGORIES:NCAA-B (W)
END:VEVENT
BEGIN:VEVENT
DTSTART;TZID=America/New_York:20260303T170000
DTEND;TZID=America/New_York:20260303T200000
DTSTAMP:20260420T055536
CREATED:20260303T215733Z
LAST-MODIFIED:20260310T123100Z
UID:10008988-1772557200-1772568000@tomswatchbar.com
SUMMARY:NCAA-B (W): West Georgia VS North Florida
DESCRIPTION:The Best Place to Watch NCAA-B (W): West Georgia VS North Florida is at Tom’s Watch Bar! Tom’s Watch Bar is the home for NCAA-B (W)
URL:https://tomswatchbar.com/event/ncaa-b-w-west-georgia-vs-north-florida/
LOCATION:ALL\, United States
CATEGORIES:NCAA-B (W)
END:VEVENT
BEGIN:VEVENT
DTSTART;TZID=America/New_York:20260301T150000
DTEND;TZID=America/New_York:20260301T180000
DTSTAMP:20260420T055536
CREATED:20260223T235124Z
LAST-MODIFIED:20260224T000815Z
UID:10008955-1772377200-1772388000@tomswatchbar.com
SUMMARY:NCAA-B (W) TOP 25: Georgia (23) VS Florida
DESCRIPTION:The Best Place to Watch NCAA-B (W) TOP 25: Georgia (23) VS Florida is at Tom’s Watch Bar! Tom’s Watch Bar is the home for NCAA-B (W)
URL:https://tomswatchbar.com/event/ncaa-b-w-top-25-georgia-23-vs-florida/
LOCATION:ALL\, United States
CATEGORIES:NCAA-B (W)
END:VEVENT
BEGIN:VEVENT
DTSTART;TZID=America/New_York:20260301T150000
DTEND;TZID=America/New_York:20260301T180000
DTSTAMP:20260420T055536
CREATED:20260223T235122Z
LAST-MODIFIED:20260224T000814Z
UID:10008954-1772377200-1772388000@tomswatchbar.com
SUMMARY:NCAA-B (W) TOP 25: Illinois VS Minnesota (22)
DESCRIPTION:The Best Place to Watch NCAA-B (W) TOP 25: Illinois VS Minnesota (22) is at Tom’s Watch Bar! Tom’s Watch Bar is the home for NCAA-B (W)
URL:https://tomswatchbar.com/event/ncaa-b-w-top-25-illinois-vs-minnesota-22/
LOCATION:ALL\, United States
CATEGORIES:NCAA-B (W)
END:VEVENT
BEGIN:VEVENT
DTSTART;TZID=America/New_York:20260301T140000
DTEND;TZID=America/New_York:20260301T170000
DTSTAMP:20260420T055536
CREATED:20260223T235120Z
LAST-MODIFIED:20260224T000812Z
UID:10008953-1772373600-1772384400@tomswatchbar.com
SUMMARY:NCAA-B (W) TOP 25: West Virginia (17) VS Cincinnati
DESCRIPTION:The Best Place to Watch NCAA-B (W) TOP 25: West Virginia (17) VS Cincinnati is at Tom’s Watch Bar! Tom’s Watch Bar is the home for NCAA-B (W)
URL:https://tomswatchbar.com/event/ncaa-b-w-top-25-west-virginia-17-vs-cincinnati/
LOCATION:ALL\, United States
CATEGORIES:NCAA-B (W)
END:VEVENT
BEGIN:VEVENT
DTSTART;TZID=America/New_York:20260301T140000
DTEND;TZID=America/New_York:20260301T170000
DTSTAMP:20260420T055536
CREATED:20260223T235118Z
LAST-MODIFIED:20260224T000810Z
UID:10008952-1772373600-1772384400@tomswatchbar.com
SUMMARY:NCAA-B (W) TOP 25: Tennessee VS Vanderbilt (5)
DESCRIPTION:The Best Place to Watch NCAA-B (W) TOP 25: Tennessee VS Vanderbilt (5) is at Tom’s Watch Bar! Tom’s Watch Bar is the home for NCAA-B (W)
URL:https://tomswatchbar.com/event/ncaa-b-w-top-25-tennessee-vs-vanderbilt-5/
LOCATION:ALL\, United States
CATEGORIES:NCAA-B (W)
END:VEVENT
BEGIN:VEVENT
DTSTART;TZID=America/New_York:20260301T140000
DTEND;TZID=America/New_York:20260301T170000
DTSTAMP:20260420T055536
CREATED:20260223T235116Z
LAST-MODIFIED:20260224T000809Z
UID:10008951-1772373600-1772384400@tomswatchbar.com
SUMMARY:NCAA-B (W) TOP 25: Kentucky (16) VS South Carolina (3)
DESCRIPTION:The Best Place to Watch NCAA-B (W) TOP 25: Kentucky (16) VS South Carolina (3) is at Tom’s Watch Bar! Tom’s Watch Bar is the home for NCAA-B (W)
URL:https://tomswatchbar.com/event/ncaa-b-w-top-25-kentucky-16-vs-south-carolina-3/
LOCATION:ALL\, United States
CATEGORIES:NCAA-B (W)
END:VEVENT
BEGIN:VEVENT
DTSTART;TZID=America/New_York:20260301T120000
DTEND;TZID=America/New_York:20260301T150000
DTSTAMP:20260420T055536
CREATED:20260223T234927Z
LAST-MODIFIED:20260224T000800Z
UID:10008950-1772366400-1772377200@tomswatchbar.com
SUMMARY:NCAA-B (W) TOP 25: Michigan State (15) VS Ohio State (13)
DESCRIPTION:The Best Place to Watch NCAA-B (W) TOP 25: Michigan State (15) VS Ohio State (13) is at Tom’s Watch Bar! Tom’s Watch Bar is the home for NCAA-B (W)
URL:https://tomswatchbar.com/event/ncaa-b-w-top-25-michigan-state-15-vs-ohio-state-13/
LOCATION:ALL\, United States
CATEGORIES:NCAA-B (W)
END:VEVENT
BEGIN:VEVENT
DTSTART;TZID=America/New_York:20260301T120000
DTEND;TZID=America/New_York:20260301T150000
DTSTAMP:20260420T055536
CREATED:20260223T234925Z
LAST-MODIFIED:20260224T000758Z
UID:10008949-1772366400-1772377200@tomswatchbar.com
SUMMARY:NCAA-B (W) TOP 25: Alabama (24) VS Texas (4)
DESCRIPTION:The Best Place to Watch NCAA-B (W) TOP 25: Alabama (24) VS Texas (4) is at Tom’s Watch Bar! Tom’s Watch Bar is the home for NCAA-B (W)
URL:https://tomswatchbar.com/event/ncaa-b-w-top-25-alabama-24-vs-texas-4/
LOCATION:ALL\, United States
CATEGORIES:NCAA-B (W)
END:VEVENT
BEGIN:VEVENT
DTSTART;TZID=America/New_York:20260301T120000
DTEND;TZID=America/New_York:20260301T150000
DTSTAMP:20260420T055536
CREATED:20260223T234923Z
LAST-MODIFIED:20260224T000757Z
UID:10008948-1772366400-1772377200@tomswatchbar.com
SUMMARY:NCAA-B (W) TOP 25: North Carolina (21) VS Duke (12)
DESCRIPTION:The Best Place to Watch NCAA-B (W) TOP 25: North Carolina (21) VS Duke (12) is at Tom’s Watch Bar! Tom’s Watch Bar is the home for NCAA-B (W)
URL:https://tomswatchbar.com/event/ncaa-b-w-top-25-north-carolina-21-vs-duke-12/
LOCATION:ALL\, United States
CATEGORIES:NCAA-B (W)
END:VEVENT
BEGIN:VEVENT
DTSTART;TZID=America/New_York:20260228T180000
DTEND;TZID=America/New_York:20260228T210000
DTSTAMP:20260420T055536
CREATED:20260223T234921Z
LAST-MODIFIED:20260224T000755Z
UID:10008947-1772301600-1772312400@tomswatchbar.com
SUMMARY:NCAA-B (W) TOP 25: Harvard VS Princeton (25)
DESCRIPTION:The Best Place to Watch NCAA-B (W) TOP 25: Harvard VS Princeton (25) is at Tom’s Watch Bar! Tom’s Watch Bar is the home for NCAA-B (W)
URL:https://tomswatchbar.com/event/ncaa-b-w-top-25-harvard-vs-princeton-25/
LOCATION:ALL\, United States
CATEGORIES:NCAA-B (W)
END:VEVENT
BEGIN:VEVENT
DTSTART;TZID=America/New_York:20260228T143000
DTEND;TZID=America/New_York:20260228T173000
DTSTAMP:20260420T055536
CREATED:20260223T234919Z
LAST-MODIFIED:20260224T000753Z
UID:10008946-1772289000-1772299800@tomswatchbar.com
SUMMARY:NCAA-B (W) TOP 25: Michigan (8) VS Maryland (14)
DESCRIPTION:The Best Place to Watch NCAA-B (W) TOP 25: Michigan (8) VS Maryland (14) is at Tom’s Watch Bar! Tom’s Watch Bar is the home for NCAA-B (W)
URL:https://tomswatchbar.com/event/ncaa-b-w-top-25-michigan-8-vs-maryland-14/
LOCATION:ALL\, United States
CATEGORIES:NCAA-B (W)
END:VEVENT
BEGIN:VEVENT
DTSTART;TZID=America/New_York:20260227T180000
DTEND;TZID=America/New_York:20260227T210000
DTSTAMP:20260420T055536
CREATED:20260223T234727Z
LAST-MODIFIED:20260224T000702Z
UID:10008945-1772215200-1772226000@tomswatchbar.com
SUMMARY:NCAA-B (W) TOP 25: Dartmouth VS Princeton (25)
DESCRIPTION:The Best Place to Watch NCAA-B (W) TOP 25: Dartmouth VS Princeton (25) is at Tom’s Watch Bar! Tom’s Watch Bar is the home for NCAA-B (W)
URL:https://tomswatchbar.com/event/ncaa-b-w-top-25-dartmouth-vs-princeton-25/
LOCATION:ALL\, United States
CATEGORIES:NCAA-B (W)
END:VEVENT
BEGIN:VEVENT
DTSTART;TZID=America/New_York:20260226T220000
DTEND;TZID=America/New_York:20260227T010000
DTSTAMP:20260420T055536
CREATED:20260224T001902Z
LAST-MODIFIED:20260303T215333Z
UID:10008986-1772143200-1772154000@tomswatchbar.com
SUMMARY:NCAA-B (M) TOP 25: Texas VS Georgia (23)
DESCRIPTION:The Best Place to Watch NCAA-B (M) TOP 25: Texas VS Georgia (23) is at Tom’s Watch Bar! Tom’s Watch Bar is the home for NCAA-B (M)
URL:https://tomswatchbar.com/event/ncaa-b-m-top-25-texas-vs-georgia-23/
LOCATION:ALL\, United States
CATEGORIES:NCAA-B (MENS)
END:VEVENT
BEGIN:VEVENT
DTSTART;TZID=America/New_York:20260226T220000
DTEND;TZID=America/New_York:20260227T010000
DTSTAMP:20260420T055536
CREATED:20260223T234725Z
LAST-MODIFIED:20260224T000700Z
UID:10008944-1772143200-1772154000@tomswatchbar.com
SUMMARY:NCAA-B (W) TOP 25: Texas (4) VS Georgia (23)
DESCRIPTION:The Best Place to Watch NCAA-B (W) TOP 25: Texas (4) VS Georgia (23) is at Tom’s Watch Bar! Tom’s Watch Bar is the home for NCAA-B (W)
URL:https://tomswatchbar.com/event/ncaa-b-w-top-25-texas-4-vs-georgia-23/
LOCATION:ALL\, United States
CATEGORIES:NCAA-B (W)
END:VEVENT
BEGIN:VEVENT
DTSTART;TZID=America/New_York:20260226T210000
DTEND;TZID=America/New_York:20260227T000000
DTSTAMP:20260420T055536
CREATED:20260224T001856Z
LAST-MODIFIED:20260303T215140Z
UID:10008985-1772139600-1772150400@tomswatchbar.com
SUMMARY:NCAA-B (M) TOP 25: Iowa VS Illinois (10)
DESCRIPTION:The Best Place to Watch NCAA-B (M) TOP 25: Iowa VS Illinois (10) is at Tom’s Watch Bar! Tom’s Watch Bar is the home for NCAA-B (M)
URL:https://tomswatchbar.com/event/ncaa-b-m-top-25-iowa-vs-illinois-10/
LOCATION:ALL\, United States
CATEGORIES:NCAA-B (MENS)
END:VEVENT
BEGIN:VEVENT
DTSTART;TZID=America/New_York:20260226T210000
DTEND;TZID=America/New_York:20260227T000000
DTSTAMP:20260420T055536
CREATED:20260223T234723Z
LAST-MODIFIED:20260224T000659Z
UID:10008943-1772139600-1772150400@tomswatchbar.com
SUMMARY:NCAA-B (W) TOP 25: Iowa (9) VS Illinois
DESCRIPTION:The Best Place to Watch NCAA-B (W) TOP 25: Iowa (9) VS Illinois is at Tom’s Watch Bar! Tom’s Watch Bar is the home for NCAA-B (W)
URL:https://tomswatchbar.com/event/ncaa-b-w-top-25-iowa-9-vs-illinois/
LOCATION:ALL\, United States
CATEGORIES:NCAA-B (W)
END:VEVENT
BEGIN:VEVENT
DTSTART;TZID=America/New_York:20260226T200000
DTEND;TZID=America/New_York:20260226T230000
DTSTAMP:20260420T055536
CREATED:20260224T001904Z
LAST-MODIFIED:20260303T215334Z
UID:10008987-1772136000-1772146800@tomswatchbar.com
SUMMARY:NCAA-B (M) TOP 25: Purdue (8) VS Michigan State (13)
DESCRIPTION:The Best Place to Watch NCAA-B (M) TOP 25: Purdue (8) VS Michigan State (13) is at Tom’s Watch Bar! Tom’s Watch Bar is the home for NCAA-B (M)
URL:https://tomswatchbar.com/event/ncaa-b-m-top-25-purdue-8-vs-michigan-state-13/
LOCATION:ALL\, United States
CATEGORIES:NCAA-B (MENS)
END:VEVENT
BEGIN:VEVENT
DTSTART;TZID=America/New_York:20260226T200000
DTEND;TZID=America/New_York:20260226T230000
DTSTAMP:20260420T055536
CREATED:20260224T001854Z
LAST-MODIFIED:20260303T215138Z
UID:10008984-1772136000-1772146800@tomswatchbar.com
SUMMARY:NCAA-B (M) TOP 25: Duke (1) VS Florida State
DESCRIPTION:The Best Place to Watch NCAA-B (M) TOP 25: Duke (1) VS Florida State is at Tom’s Watch Bar! Tom’s Watch Bar is the home for NCAA-B (M)
URL:https://tomswatchbar.com/event/ncaa-b-m-top-25-duke-1-vs-florida-state/
LOCATION:ALL\, United States
CATEGORIES:NCAA-B (MENS)
END:VEVENT
BEGIN:VEVENT
DTSTART;TZID=America/New_York:20260226T200000
DTEND;TZID=America/New_York:20260226T230000
DTSTAMP:20260420T055536
CREATED:20260224T001852Z
LAST-MODIFIED:20260303T215136Z
UID:10008983-1772136000-1772146800@tomswatchbar.com
SUMMARY:NCAA-B (M) TOP 25: South Carolina VS Missouri
DESCRIPTION:The Best Place to Watch NCAA-B (M) TOP 25: South Carolina VS Missouri is at Tom’s Watch Bar! Tom’s Watch Bar is the home for NCAA-B (M)
URL:https://tomswatchbar.com/event/ncaa-b-m-top-25-south-carolina-vs-missouri/
LOCATION:ALL\, United States
CATEGORIES:NCAA-B (MENS)
END:VEVENT
BEGIN:VEVENT
DTSTART;TZID=America/New_York:20260226T200000
DTEND;TZID=America/New_York:20260226T230000
DTSTAMP:20260420T055536
CREATED:20260223T234720Z
LAST-MODIFIED:20260224T000657Z
UID:10008942-1772136000-1772146800@tomswatchbar.com
SUMMARY:NCAA-B (W) TOP 25: Duke (12) VS Florida State
DESCRIPTION:The Best Place to Watch NCAA-B (W) TOP 25: Duke (12) VS Florida State is at Tom’s Watch Bar! Tom’s Watch Bar is the home for NCAA-B (W)
URL:https://tomswatchbar.com/event/ncaa-b-w-top-25-duke-12-vs-florida-state/
LOCATION:ALL\, United States
CATEGORIES:NCAA-B (W)
END:VEVENT
BEGIN:VEVENT
DTSTART;TZID=America/New_York:20260226T200000
DTEND;TZID=America/New_York:20260226T230000
DTSTAMP:20260420T055536
CREATED:20260223T234718Z
LAST-MODIFIED:20260224T000655Z
UID:10008941-1772136000-1772146800@tomswatchbar.com
SUMMARY:NCAA-B (W) TOP 25: South Carolina (3) VS Missouri
DESCRIPTION:The Best Place to Watch NCAA-B (W) TOP 25: South Carolina (3) VS Missouri is at Tom’s Watch Bar! Tom’s Watch Bar is the home for NCAA-B (W)
URL:https://tomswatchbar.com/event/ncaa-b-w-top-25-south-carolina-3-vs-missouri/
LOCATION:ALL\, United States
CATEGORIES:NCAA-B (W)
END:VEVENT
BEGIN:VEVENT
DTSTART;TZID=America/New_York:20260226T193000
DTEND;TZID=America/New_York:20260226T223000
DTSTAMP:20260420T055536
CREATED:20260224T001849Z
LAST-MODIFIED:20260303T215135Z
UID:10008982-1772134200-1772145000@tomswatchbar.com
SUMMARY:NCAA-B (M) TOP 25: Vanderbilt (25) VS Alabama (17)
DESCRIPTION:The Best Place to Watch NCAA-B (M) TOP 25: Vanderbilt (25) VS Alabama (17) is at Tom’s Watch Bar! Tom’s Watch Bar is the home for NCAA-B (M)
URL:https://tomswatchbar.com/event/ncaa-b-m-top-25-vanderbilt-25-vs-alabama-17/
LOCATION:ALL\, United States
CATEGORIES:NCAA-B (MENS)
END:VEVENT
BEGIN:VEVENT
DTSTART;TZID=America/New_York:20260226T193000
DTEND;TZID=America/New_York:20260226T223000
DTSTAMP:20260420T055536
CREATED:20260223T234559Z
LAST-MODIFIED:20260224T000534Z
UID:10008940-1772134200-1772145000@tomswatchbar.com
SUMMARY:NCAA-B (W) TOP 25: Vanderbilt (5) VS Alabama (24)
DESCRIPTION:The Best Place to Watch NCAA-B (W) TOP 25: Vanderbilt (5) VS Alabama (24) is at Tom’s Watch Bar! Tom’s Watch Bar is the home for NCAA-B (W)
URL:https://tomswatchbar.com/event/ncaa-b-w-top-25-vanderbilt-5-vs-alabama-24/
LOCATION:ALL\, United States
CATEGORIES:NCAA-B (W)
END:VEVENT
BEGIN:VEVENT
DTSTART;TZID=America/New_York:20260226T190000
DTEND;TZID=America/New_York:20260226T220000
DTSTAMP:20260420T055536
CREATED:20260224T001847Z
LAST-MODIFIED:20260303T215133Z
UID:10008981-1772132400-1772143200@tomswatchbar.com
SUMMARY:NCAA-B (M) TOP 25: UConn (6) VS Georgetown
DESCRIPTION:The Best Place to Watch NCAA-B (M) TOP 25: UConn (6) VS Georgetown is at Tom’s Watch Bar! Tom’s Watch Bar is the home for NCAA-B (M)
URL:https://tomswatchbar.com/event/ncaa-b-m-top-25-uconn-6-vs-georgetown-2/
LOCATION:ALL\, United States
CATEGORIES:NCAA-B (MENS)
END:VEVENT
BEGIN:VEVENT
DTSTART;TZID=America/New_York:20260226T190000
DTEND;TZID=America/New_York:20260226T220000
DTSTAMP:20260420T055536
CREATED:20260224T001843Z
LAST-MODIFIED:20260303T214938Z
UID:10008980-1772132400-1772143200@tomswatchbar.com
SUMMARY:NCAA-B (M) TOP 25: Virginia (11) VS North Carolina (18)
DESCRIPTION:The Best Place to Watch NCAA-B (M) TOP 25: Virginia (11) VS North Carolina (18) is at Tom’s Watch Bar! Tom’s Watch Bar is the home for NCAA-B (M)
URL:https://tomswatchbar.com/event/ncaa-b-m-top-25-virginia-11-vs-north-carolina-18/
LOCATION:ALL\, United States
CATEGORIES:NCAA-B (MENS)
END:VEVENT
END:VCALENDAR