BEGIN:VCALENDAR
VERSION:2.0
PRODID:-//Tom&#039;s Watch Bar - ECPv6.15.18//NONSGML v1.0//EN
CALSCALE:GREGORIAN
METHOD:PUBLISH
X-WR-CALNAME:Tom&#039;s Watch Bar
X-ORIGINAL-URL:https://tomswatchbar.com
X-WR-CALDESC:Events for Tom&#039;s Watch Bar
REFRESH-INTERVAL;VALUE=DURATION:PT1H
X-Robots-Tag:noindex
X-PUBLISHED-TTL:PT1H
BEGIN:VTIMEZONE
TZID:America/New_York
BEGIN:DAYLIGHT
TZOFFSETFROM:-0500
TZOFFSETTO:-0400
TZNAME:EDT
DTSTART:20250309T070000
END:DAYLIGHT
BEGIN:STANDARD
TZOFFSETFROM:-0400
TZOFFSETTO:-0500
TZNAME:EST
DTSTART:20251102T060000
END:STANDARD
BEGIN:DAYLIGHT
TZOFFSETFROM:-0500
TZOFFSETTO:-0400
TZNAME:EDT
DTSTART:20260308T070000
END:DAYLIGHT
BEGIN:STANDARD
TZOFFSETFROM:-0400
TZOFFSETTO:-0500
TZNAME:EST
DTSTART:20261101T060000
END:STANDARD
BEGIN:DAYLIGHT
TZOFFSETFROM:-0500
TZOFFSETTO:-0400
TZNAME:EDT
DTSTART:20270314T070000
END:DAYLIGHT
BEGIN:STANDARD
TZOFFSETFROM:-0400
TZOFFSETTO:-0500
TZNAME:EST
DTSTART:20271107T060000
END:STANDARD
END:VTIMEZONE
BEGIN:VEVENT
DTSTART;TZID=America/New_York:20260224T190000
DTEND;TZID=America/New_York:20260224T220000
DTSTAMP:20260420T045447
CREATED:20260224T001726Z
LAST-MODIFIED:20260303T214313Z
UID:10008959-1771959600-1771970400@tomswatchbar.com
SUMMARY:NCAA-B (M) TOP 25: Texas Tech (16) VS Cincinnati
DESCRIPTION:The Best Place to Watch NCAA-B (M) TOP 25: Texas Tech (16) VS Cincinnati is at Tom’s Watch Bar! Tom’s Watch Bar is the home for NCAA-B (M)
URL:https://tomswatchbar.com/event/ncaa-b-m-top-25-texas-tech-16-vs-cincinnati/
LOCATION:ALL\, United States
CATEGORIES:NCAA-B (MENS)
END:VEVENT
BEGIN:VEVENT
DTSTART;TZID=America/New_York:20260224T190000
DTEND;TZID=America/New_York:20260224T220000
DTSTAMP:20260420T045447
CREATED:20260223T234514Z
LAST-MODIFIED:20260224T000452Z
UID:10008926-1771959600-1771970400@tomswatchbar.com
SUMMARY:NCAA-B (W) TOP 25: Baylor (18) VS Kansas State
DESCRIPTION:The Best Place to Watch NCAA-B (W) TOP 25: Baylor (18) VS Kansas State is at Tom’s Watch Bar! Tom’s Watch Bar is the home for NCAA-B (W)
URL:https://tomswatchbar.com/event/ncaa-b-w-top-25-baylor-18-vs-kansas-state/
LOCATION:ALL\, United States
CATEGORIES:NCAA-B (W)
END:VEVENT
BEGIN:VEVENT
DTSTART;TZID=America/New_York:20260224T183000
DTEND;TZID=America/New_York:20260224T213000
DTSTAMP:20260420T045447
CREATED:20260224T001724Z
LAST-MODIFIED:20260303T214311Z
UID:10008958-1771957800-1771968600@tomswatchbar.com
SUMMARY:NCAA-B (M) TOP 25: Eastern MI VS Miami OH (21)
DESCRIPTION:The Best Place to Watch NCAA-B (M) TOP 25: Eastern MI VS Miami OH (21) is at Tom’s Watch Bar! Tom’s Watch Bar is the home for NCAA-B (M)
URL:https://tomswatchbar.com/event/ncaa-b-m-top-25-eastern-mi-vs-miami-oh-21/
LOCATION:ALL\, United States
CATEGORIES:NCAA-B (MENS)
END:VEVENT
BEGIN:VEVENT
DTSTART;TZID=America/New_York:20260223T210000
DTEND;TZID=America/New_York:20260224T000000
DTSTAMP:20260420T045447
CREATED:20260224T001721Z
LAST-MODIFIED:20260303T214309Z
UID:10008957-1771880400-1771891200@tomswatchbar.com
SUMMARY:NCAA-B (M) TOP 25: Kansas (14) VS Houston (5)
DESCRIPTION:The Best Place to Watch NCAA-B (M) TOP 25: Kansas (14) VS Houston (5) is at Tom’s Watch Bar! Tom’s Watch Bar is the home for NCAA-B (M)
URL:https://tomswatchbar.com/event/ncaa-b-m-top-25-kansas-14-vs-houston-5/
LOCATION:ALL\, United States
CATEGORIES:NCAA-B (MENS)
END:VEVENT
BEGIN:VEVENT
DTSTART;TZID=America/New_York:20260223T190000
DTEND;TZID=America/New_York:20260223T220000
DTSTAMP:20260420T045447
CREATED:20260224T001719Z
LAST-MODIFIED:20260303T214308Z
UID:10008956-1771873200-1771884000@tomswatchbar.com
SUMMARY:NCAA-B (M) TOP 25: North Carolina (18) VS Louisville (24)
DESCRIPTION:The Best Place to Watch NCAA-B (M) TOP 25: North Carolina (18) VS Louisville (24) is at Tom’s Watch Bar! Tom’s Watch Bar is the home for NCAA-B (M)
URL:https://tomswatchbar.com/event/ncaa-b-m-top-25-north-carolina-18-vs-louisville-24/
LOCATION:ALL\, United States
CATEGORIES:NCAA-B (MENS)
END:VEVENT
BEGIN:VEVENT
DTSTART;TZID=America/New_York:20260222T180000
DTEND;TZID=America/New_York:20260222T210000
DTSTAMP:20260420T045447
CREATED:20260216T210238Z
LAST-MODIFIED:20260216T210238Z
UID:10008925-1771783200-1771794000@tomswatchbar.com
SUMMARY:NCAA-B (W) TOP 25: Minnesota (23) VS Michigan State (18)
DESCRIPTION:The Best Place to Watch NCAA-B (W) TOP 25: Minnesota (23) VS Michigan State (18) is at Tom’s Watch Bar! Tom’s Watch Bar is the home for NCAA-B (W)
URL:https://tomswatchbar.com/event/ncaa-b-w-top-25-minnesota-23-vs-michigan-state-18/
LOCATION:ALL\, United States
CATEGORIES:NCAA-B (W)
END:VEVENT
BEGIN:VEVENT
DTSTART;TZID=America/New_York:20260222T173000
DTEND;TZID=America/New_York:20260222T203000
DTSTAMP:20260420T045447
CREATED:20260216T210236Z
LAST-MODIFIED:20260216T210236Z
UID:10008924-1771781400-1771792200@tomswatchbar.com
SUMMARY:NCAA-B (W) TOP 25: UCLA (2) VS Wisconsin
DESCRIPTION:The Best Place to Watch NCAA-B (W) TOP 25: UCLA (2) VS Wisconsin is at Tom’s Watch Bar! Tom’s Watch Bar is the home for NCAA-B (W)
URL:https://tomswatchbar.com/event/ncaa-b-w-top-25-ucla-2-vs-wisconsin/
LOCATION:ALL\, United States
CATEGORIES:NCAA-B (W)
END:VEVENT
BEGIN:VEVENT
DTSTART;TZID=America/New_York:20260222T160000
DTEND;TZID=America/New_York:20260222T190000
DTSTAMP:20260420T045447
CREATED:20260216T210234Z
LAST-MODIFIED:20260216T210234Z
UID:10008923-1771776000-1771786800@tomswatchbar.com
SUMMARY:NCAA-B (W) TOP 25: TCU (12) VS Iowa State
DESCRIPTION:The Best Place to Watch NCAA-B (W) TOP 25: TCU (12) VS Iowa State is at Tom’s Watch Bar! Tom’s Watch Bar is the home for NCAA-B (W)
URL:https://tomswatchbar.com/event/ncaa-b-w-top-25-tcu-12-vs-iowa-state/
LOCATION:ALL\, United States
CATEGORIES:NCAA-B (W)
END:VEVENT
BEGIN:VEVENT
DTSTART;TZID=America/New_York:20260222T160000
DTEND;TZID=America/New_York:20260222T190000
DTSTAMP:20260420T045447
CREATED:20260216T210232Z
LAST-MODIFIED:20260216T210232Z
UID:10008922-1771776000-1771786800@tomswatchbar.com
SUMMARY:NCAA-B (W) TOP 25: LSU (7) VS Missouri
DESCRIPTION:The Best Place to Watch NCAA-B (W) TOP 25: LSU (7) VS Missouri is at Tom’s Watch Bar! Tom’s Watch Bar is the home for NCAA-B (W)
URL:https://tomswatchbar.com/event/ncaa-b-w-top-25-lsu-7-vs-missouri/
LOCATION:ALL\, United States
CATEGORIES:NCAA-B (W)
END:VEVENT
BEGIN:VEVENT
DTSTART;TZID=America/New_York:20260222T160000
DTEND;TZID=America/New_York:20260222T190000
DTSTAMP:20260420T045447
CREATED:20260216T204722Z
LAST-MODIFIED:20260216T204722Z
UID:10008891-1771776000-1771786800@tomswatchbar.com
SUMMARY:NCAA-B (M) TOP 25: Wisconsin (24) VS Iowa
DESCRIPTION:The Best Place to Watch NCAA-B (M) TOP 25: Wisconsin (24) VS Iowa is at Tom’s Watch Bar! Tom’s Watch Bar is the home for NCAA-B (M)
URL:https://tomswatchbar.com/event/ncaa-b-m-top-25-wisconsin-24-vs-iowa/
LOCATION:ALL\, United States
CATEGORIES:NCAA-B (MENS)
END:VEVENT
BEGIN:VEVENT
DTSTART;TZID=America/New_York:20260222T150000
DTEND;TZID=America/New_York:20260222T180000
DTSTAMP:20260420T045447
CREATED:20260216T210040Z
LAST-MODIFIED:20260216T210040Z
UID:10008921-1771772400-1771783200@tomswatchbar.com
SUMMARY:NCAA-B (W) TOP 25: Vanderbilt (5) VS Kentucky (16)
DESCRIPTION:The Best Place to Watch NCAA-B (W) TOP 25: Vanderbilt (5) VS Kentucky (16) is at Tom’s Watch Bar! Tom’s Watch Bar is the home for NCAA-B (W)
URL:https://tomswatchbar.com/event/ncaa-b-w-top-25-vanderbilt-5-vs-kentucky-16/
LOCATION:ALL\, United States
CATEGORIES:NCAA-B (W)
END:VEVENT
BEGIN:VEVENT
DTSTART;TZID=America/New_York:20260222T140000
DTEND;TZID=America/New_York:20260222T170000
DTSTAMP:20260420T045447
CREATED:20260216T210038Z
LAST-MODIFIED:20260216T210038Z
UID:10008920-1771768800-1771779600@tomswatchbar.com
SUMMARY:NCAA-B (W) TOP 25: Clemson VS Duke (9)
DESCRIPTION:The Best Place to Watch NCAA-B (W) TOP 25: Clemson VS Duke (9) is at Tom’s Watch Bar! Tom’s Watch Bar is the home for NCAA-B (W)
URL:https://tomswatchbar.com/event/ncaa-b-w-top-25-clemson-vs-duke-9/
LOCATION:ALL\, United States
CATEGORIES:NCAA-B (W)
END:VEVENT
BEGIN:VEVENT
DTSTART;TZID=America/New_York:20260222T140000
DTEND;TZID=America/New_York:20260222T170000
DTSTAMP:20260420T045447
CREATED:20260216T210036Z
LAST-MODIFIED:20260216T210036Z
UID:10008919-1771768800-1771779600@tomswatchbar.com
SUMMARY:NCAA-B (W) TOP 25: Oklahoma (11) VS Tennessee (21)
DESCRIPTION:The Best Place to Watch NCAA-B (W) TOP 25: Oklahoma (11) VS Tennessee (21) is at Tom’s Watch Bar! Tom’s Watch Bar is the home for NCAA-B (W)
URL:https://tomswatchbar.com/event/ncaa-b-w-top-25-oklahoma-11-vs-tennessee-21/
LOCATION:ALL\, United States
CATEGORIES:NCAA-B (W)
END:VEVENT
BEGIN:VEVENT
DTSTART;TZID=America/New_York:20260222T140000
DTEND;TZID=America/New_York:20260222T170000
DTSTAMP:20260420T045447
CREATED:20260216T210033Z
LAST-MODIFIED:20260216T210033Z
UID:10008918-1771768800-1771779600@tomswatchbar.com
SUMMARY:NCAA-B (W) TOP 25: Texas (4) VS Mississippi State
DESCRIPTION:The Best Place to Watch NCAA-B (W) TOP 25: Texas (4) VS Mississippi State is at Tom’s Watch Bar! Tom’s Watch Bar is the home for NCAA-B (W)
URL:https://tomswatchbar.com/event/ncaa-b-w-top-25-texas-4-vs-mississippi-state/
LOCATION:ALL\, United States
CATEGORIES:NCAA-B (W)
END:VEVENT
BEGIN:VEVENT
DTSTART;TZID=America/New_York:20260222T140000
DTEND;TZID=America/New_York:20260222T170000
DTSTAMP:20260420T045447
CREATED:20260216T210031Z
LAST-MODIFIED:20260216T210031Z
UID:10008917-1771768800-1771779600@tomswatchbar.com
SUMMARY:NCAA-B (W) TOP 25: Ohio State (10) VS USC
DESCRIPTION:The Best Place to Watch NCAA-B (W) TOP 25: Ohio State (10) VS USC is at Tom’s Watch Bar! Tom’s Watch Bar is the home for NCAA-B (W)
URL:https://tomswatchbar.com/event/ncaa-b-w-top-25-ohio-state-10-vs-usc/
LOCATION:ALL\, United States
CATEGORIES:NCAA-B (W)
END:VEVENT
BEGIN:VEVENT
DTSTART;TZID=America/New_York:20260222T130000
DTEND;TZID=America/New_York:20260222T160000
DTSTAMP:20260420T045447
CREATED:20260216T205839Z
LAST-MODIFIED:20260216T205839Z
UID:10008916-1771765200-1771776000@tomswatchbar.com
SUMMARY:NCAA-B (W) TOP 25: Maryland (14) VS Purdue
DESCRIPTION:The Best Place to Watch NCAA-B (W) TOP 25: Maryland (14) VS Purdue is at Tom’s Watch Bar! Tom’s Watch Bar is the home for NCAA-B (W)
URL:https://tomswatchbar.com/event/ncaa-b-w-top-25-maryland-14-vs-purdue/
LOCATION:ALL\, United States
CATEGORIES:NCAA-B (W)
END:VEVENT
BEGIN:VEVENT
DTSTART;TZID=America/New_York:20260222T130000
DTEND;TZID=America/New_York:20260222T160000
DTSTAMP:20260420T045447
CREATED:20260216T204720Z
LAST-MODIFIED:20260216T204720Z
UID:10008890-1771765200-1771776000@tomswatchbar.com
SUMMARY:NCAA-B (M) TOP 25: Michigan State (15) VS Ohio State
DESCRIPTION:The Best Place to Watch NCAA-B (M) TOP 25: Michigan State (15) VS Ohio State is at Tom’s Watch Bar! Tom’s Watch Bar is the home for NCAA-B (M)
URL:https://tomswatchbar.com/event/ncaa-b-m-top-25-michigan-state-15-vs-ohio-state/
LOCATION:ALL\, United States
CATEGORIES:NCAA-B (MENS)
END:VEVENT
BEGIN:VEVENT
DTSTART;TZID=America/New_York:20260222T120000
DTEND;TZID=America/New_York:20260222T150000
DTSTAMP:20260420T045447
CREATED:20260216T205837Z
LAST-MODIFIED:20260216T205837Z
UID:10008915-1771761600-1771772400@tomswatchbar.com
SUMMARY:NCAA-B (W) TOP 25: UConn (1) VS Providence
DESCRIPTION:The Best Place to Watch NCAA-B (W) TOP 25: UConn (1) VS Providence is at Tom’s Watch Bar! Tom’s Watch Bar is the home for NCAA-B (W)
URL:https://tomswatchbar.com/event/ncaa-b-w-top-25-uconn-1-vs-providence/
LOCATION:ALL\, United States
CATEGORIES:NCAA-B (W)
END:VEVENT
BEGIN:VEVENT
DTSTART;TZID=America/New_York:20260222T120000
DTEND;TZID=America/New_York:20260222T150000
DTSTAMP:20260420T045447
CREATED:20260216T205834Z
LAST-MODIFIED:20260216T205834Z
UID:10008914-1771761600-1771772400@tomswatchbar.com
SUMMARY:NCAA-B (W) TOP 25: Louisville (8) VS Virginia
DESCRIPTION:The Best Place to Watch NCAA-B (W) TOP 25: Louisville (8) VS Virginia is at Tom’s Watch Bar! Tom’s Watch Bar is the home for NCAA-B (W)
URL:https://tomswatchbar.com/event/ncaa-b-w-top-25-louisville-8-vs-virginia/
LOCATION:ALL\, United States
CATEGORIES:NCAA-B (W)
END:VEVENT
BEGIN:VEVENT
DTSTART;TZID=America/New_York:20260222T120000
DTEND;TZID=America/New_York:20260222T150000
DTSTAMP:20260420T045447
CREATED:20260216T205832Z
LAST-MODIFIED:20260216T205832Z
UID:10008913-1771761600-1771772400@tomswatchbar.com
SUMMARY:NCAA-B (W) TOP 25: Iowa (13) VS Michigan (6)
DESCRIPTION:The Best Place to Watch NCAA-B (W) TOP 25: Iowa (13) VS Michigan (6) is at Tom’s Watch Bar! Tom’s Watch Bar is the home for NCAA-B (W)
URL:https://tomswatchbar.com/event/ncaa-b-w-top-25-iowa-13-vs-michigan-6/
LOCATION:ALL\, United States
CATEGORIES:NCAA-B (W)
END:VEVENT
BEGIN:VEVENT
DTSTART;TZID=America/New_York:20260222T120000
DTEND;TZID=America/New_York:20260222T150000
DTSTAMP:20260420T045447
CREATED:20260216T205830Z
LAST-MODIFIED:20260216T205830Z
UID:10008912-1771761600-1771772400@tomswatchbar.com
SUMMARY:NCAA-B (W) TOP 25: UNC (22) VS Pittsburgh
DESCRIPTION:The Best Place to Watch NCAA-B (W) TOP 25: UNC (22) VS Pittsburgh is at Tom’s Watch Bar! Tom’s Watch Bar is the home for NCAA-B (W)
URL:https://tomswatchbar.com/event/ncaa-b-w-top-25-unc-22-vs-pittsburgh/
LOCATION:ALL\, United States
CATEGORIES:NCAA-B (W)
END:VEVENT
BEGIN:VEVENT
DTSTART;TZID=America/New_York:20260222T120000
DTEND;TZID=America/New_York:20260222T150000
DTSTAMP:20260420T045447
CREATED:20260216T205638Z
LAST-MODIFIED:20260216T205638Z
UID:10008911-1771761600-1771772400@tomswatchbar.com
SUMMARY:NCAA-B (W) TOP 25: South Carolina (3) VS Ole Miss (17)
DESCRIPTION:The Best Place to Watch NCAA-B (W) TOP 25: South Carolina (3) VS Ole Miss (17) is at Tom’s Watch Bar! Tom’s Watch Bar is the home for NCAA-B (W)
URL:https://tomswatchbar.com/event/ncaa-b-w-top-25-south-carolina-3-vs-ole-miss-17/
LOCATION:ALL\, United States
CATEGORIES:NCAA-B (W)
END:VEVENT
BEGIN:VEVENT
DTSTART;TZID=America/New_York:20260222T120000
DTEND;TZID=America/New_York:20260222T150000
DTSTAMP:20260420T045447
CREATED:20260216T205636Z
LAST-MODIFIED:20260216T205636Z
UID:10008910-1771761600-1771772400@tomswatchbar.com
SUMMARY:NCAA-B (W) TOP 25: Florida VS Alabama (25)
DESCRIPTION:The Best Place to Watch NCAA-B (W) TOP 25: Florida VS Alabama (25) is at Tom’s Watch Bar! Tom’s Watch Bar is the home for NCAA-B (W)
URL:https://tomswatchbar.com/event/ncaa-b-w-top-25-florida-vs-alabama-25/
LOCATION:ALL\, United States
CATEGORIES:NCAA-B (W)
END:VEVENT
BEGIN:VEVENT
DTSTART;TZID=America/New_York:20260221T223000
DTEND;TZID=America/New_York:20260222T013000
DTSTAMP:20260420T045447
CREATED:20260216T204717Z
LAST-MODIFIED:20260216T204717Z
UID:10008889-1771713000-1771723800@tomswatchbar.com
SUMMARY:NCAA-B (M) TOP 25: BYU (23) VS Iowa State (6)
DESCRIPTION:The Best Place to Watch NCAA-B (M) TOP 25: BYU (23) VS Iowa State (6) is at Tom’s Watch Bar! Tom’s Watch Bar is the home for NCAA-B (M)
URL:https://tomswatchbar.com/event/ncaa-b-m-top-25-byu-23-vs-iowa-state-6/
LOCATION:ALL\, United States
CATEGORIES:NCAA-B (MENS)
END:VEVENT
BEGIN:VEVENT
DTSTART;TZID=America/New_York:20260221T210000
DTEND;TZID=America/New_York:20260222T000000
DTSTAMP:20260420T045447
CREATED:20260216T205633Z
LAST-MODIFIED:20260216T205633Z
UID:10008909-1771707600-1771718400@tomswatchbar.com
SUMMARY:NCAA-B (W) TOP 25: Colorado VS Texas Tech (20)
DESCRIPTION:The Best Place to Watch NCAA-B (W) TOP 25: Colorado VS Texas Tech (20) is at Tom’s Watch Bar! Tom’s Watch Bar is the home for NCAA-B (W)
URL:https://tomswatchbar.com/event/ncaa-b-w-top-25-colorado-vs-texas-tech-20/
LOCATION:ALL\, United States
CATEGORIES:NCAA-B (W)
END:VEVENT
BEGIN:VEVENT
DTSTART;TZID=America/New_York:20260221T210000
DTEND;TZID=America/New_York:20260222T000000
DTSTAMP:20260420T045447
CREATED:20260216T204526Z
LAST-MODIFIED:20260216T204526Z
UID:10008888-1771707600-1771718400@tomswatchbar.com
SUMMARY:NCAA-B (M) TOP 25: Gonzaga (11) VS Pacific
DESCRIPTION:The Best Place to Watch NCAA-B (M) TOP 25: Gonzaga (11) VS Pacific is at Tom’s Watch Bar! Tom’s Watch Bar is the home for NCAA-B (M)
URL:https://tomswatchbar.com/event/ncaa-b-m-top-25-gonzaga-11-vs-pacific/
LOCATION:ALL\, United States
CATEGORIES:NCAA-B (MENS)
END:VEVENT
BEGIN:VEVENT
DTSTART;TZID=America/New_York:20260221T200000
DTEND;TZID=America/New_York:20260221T230000
DTSTAMP:20260420T045447
CREATED:20260216T205631Z
LAST-MODIFIED:20260216T205631Z
UID:10008908-1771704000-1771714800@tomswatchbar.com
SUMMARY:NCAA-B (W) TOP 25: Baylor (15) VS Arizona
DESCRIPTION:The Best Place to Watch NCAA-B (W) TOP 25: Baylor (15) VS Arizona is at Tom’s Watch Bar! Tom’s Watch Bar is the home for NCAA-B (W)
URL:https://tomswatchbar.com/event/ncaa-b-w-top-25-baylor-15-vs-arizona/
LOCATION:ALL\, United States
CATEGORIES:NCAA-B (W)
END:VEVENT
BEGIN:VEVENT
DTSTART;TZID=America/New_York:20260221T200000
DTEND;TZID=America/New_York:20260221T230000
DTSTAMP:20260420T045447
CREATED:20260216T204524Z
LAST-MODIFIED:20260216T204524Z
UID:10008887-1771704000-1771714800@tomswatchbar.com
SUMMARY:NCAA-B (M) TOP 25: UCLA VS Illinois (10)
DESCRIPTION:
URL:https://tomswatchbar.com/event/ncaa-b-m-top-25-ucla-vs-illinois-10/
LOCATION:ALL\, United States
CATEGORIES:NCAA-B (MENS)
END:VEVENT
BEGIN:VEVENT
DTSTART;TZID=America/New_York:20260221T183000
DTEND;TZID=America/New_York:20260221T213000
DTSTAMP:20260420T045447
CREATED:20260216T204521Z
LAST-MODIFIED:20260216T204521Z
UID:10008886-1771698600-1771709400@tomswatchbar.com
SUMMARY:NCAA-B (M) TOP 25: Duke (3) VS Michigan (1)
DESCRIPTION:The Best Place to Watch NCAA-B (M) TOP 25: Duke (3) VS Michigan (1) is at Tom’s Watch Bar! Tom’s Watch Bar is the home for NCAA-B (M)
URL:https://tomswatchbar.com/event/ncaa-b-m-top-25-duke-3-vs-michigan-1/
LOCATION:ALL\, United States
CATEGORIES:NCAA-B (MENS)
END:VEVENT
BEGIN:VEVENT
DTSTART;TZID=America/New_York:20260221T180000
DTEND;TZID=America/New_York:20260221T210000
DTSTAMP:20260420T045447
CREATED:20260216T204519Z
LAST-MODIFIED:20260216T204519Z
UID:10008885-1771696800-1771707600@tomswatchbar.com
SUMMARY:NCAA-B (M) TOP 25: LSU VS Alabama (25)
DESCRIPTION:The Best Place to Watch NCAA-B (M) TOP 25: LSU VS Alabama (25) is at Tom’s Watch Bar! Tom’s Watch Bar is the home for NCAA-B (M)
URL:https://tomswatchbar.com/event/ncaa-b-m-top-25-lsu-vs-alabama-25/
LOCATION:ALL\, United States
CATEGORIES:NCAA-B (MENS)
END:VEVENT
END:VCALENDAR