BEGIN:VCALENDAR
VERSION:2.0
PRODID:-//Tom&#039;s Watch Bar - ECPv6.15.18//NONSGML v1.0//EN
CALSCALE:GREGORIAN
METHOD:PUBLISH
X-WR-CALNAME:Tom&#039;s Watch Bar
X-ORIGINAL-URL:https://tomswatchbar.com
X-WR-CALDESC:Events for Tom&#039;s Watch Bar
REFRESH-INTERVAL;VALUE=DURATION:PT1H
X-Robots-Tag:noindex
X-PUBLISHED-TTL:PT1H
BEGIN:VTIMEZONE
TZID:America/New_York
BEGIN:DAYLIGHT
TZOFFSETFROM:-0500
TZOFFSETTO:-0400
TZNAME:EDT
DTSTART:20250309T070000
END:DAYLIGHT
BEGIN:STANDARD
TZOFFSETFROM:-0400
TZOFFSETTO:-0500
TZNAME:EST
DTSTART:20251102T060000
END:STANDARD
BEGIN:DAYLIGHT
TZOFFSETFROM:-0500
TZOFFSETTO:-0400
TZNAME:EDT
DTSTART:20260308T070000
END:DAYLIGHT
BEGIN:STANDARD
TZOFFSETFROM:-0400
TZOFFSETTO:-0500
TZNAME:EST
DTSTART:20261101T060000
END:STANDARD
BEGIN:DAYLIGHT
TZOFFSETFROM:-0500
TZOFFSETTO:-0400
TZNAME:EDT
DTSTART:20270314T070000
END:DAYLIGHT
BEGIN:STANDARD
TZOFFSETFROM:-0400
TZOFFSETTO:-0500
TZNAME:EST
DTSTART:20271107T060000
END:STANDARD
END:VTIMEZONE
BEGIN:VEVENT
DTSTART;TZID=America/New_York:20260304T190000
DTEND;TZID=America/New_York:20260304T220000
DTSTAMP:20260419T202455
CREATED:20260303T215806Z
LAST-MODIFIED:20260310T123122Z
UID:10008997-1772650800-1772661600@tomswatchbar.com
SUMMARY:NCAA-B (W): Purdue FW (5) VS Robert Morris (6)
DESCRIPTION:The Best Place to Watch NCAA-B (W): Purdue FW (5) VS Robert Morris (6) is at Tom’s Watch Bar! Tom’s Watch Bar is the home for NCAA-B (W)
URL:https://tomswatchbar.com/event/ncaa-b-w-purdue-fw-5-vs-robert-morris-6/
LOCATION:ALL\, United States
CATEGORIES:NCAA-B (W)
END:VEVENT
BEGIN:VEVENT
DTSTART;TZID=America/New_York:20260304T190000
DTEND;TZID=America/New_York:20260304T220000
DTSTAMP:20260419T202455
CREATED:20260303T215956Z
LAST-MODIFIED:20260310T123131Z
UID:10008998-1772650800-1772661600@tomswatchbar.com
SUMMARY:NCAA-B (W): Youngstown State (2) VS Wright State (9)
DESCRIPTION:The Best Place to Watch NCAA-B (W): Youngstown State (2) VS Wright State (9) is at Tom’s Watch Bar! Tom’s Watch Bar is the home for NCAA-B (W)
URL:https://tomswatchbar.com/event/ncaa-b-w-youngstown-state-2-vs-wright-state-9/
LOCATION:ALL\, United States
CATEGORIES:NCAA-B (W)
END:VEVENT
BEGIN:VEVENT
DTSTART;TZID=America/New_York:20260304T190000
DTEND;TZID=America/New_York:20260304T220000
DTSTAMP:20260419T202455
CREATED:20260303T215958Z
LAST-MODIFIED:20260310T123133Z
UID:10008999-1772650800-1772661600@tomswatchbar.com
SUMMARY:NCAA-B (W): Green Bay (1) VS TBD
DESCRIPTION:The Best Place to Watch NCAA-B (W): Green Bay (1) VS TBD is at Tom’s Watch Bar! Tom’s Watch Bar is the home for NCAA-B (W)
URL:https://tomswatchbar.com/event/ncaa-b-w-green-bay-1-vs-tbd/
LOCATION:ALL\, United States
CATEGORIES:NCAA-B (W)
END:VEVENT
BEGIN:VEVENT
DTSTART;TZID=America/New_York:20260304T190000
DTEND;TZID=America/New_York:20260304T220000
DTSTAMP:20260419T202455
CREATED:20260303T220000Z
LAST-MODIFIED:20260310T123134Z
UID:10009000-1772650800-1772661600@tomswatchbar.com
SUMMARY:NCAA-B (W): Northern Kentucky (4) VS IUPUI (7)
DESCRIPTION:The Best Place to Watch NCAA-B (W): Northern Kentucky (4) VS IUPUI (7) is at Tom’s Watch Bar! Tom’s Watch Bar is the home for NCAA-B (W)
URL:https://tomswatchbar.com/event/ncaa-b-w-northern-kentucky-4-vs-iupui-7/
LOCATION:ALL\, United States
CATEGORIES:NCAA-B (W)
END:VEVENT
BEGIN:VEVENT
DTSTART;TZID=America/New_York:20260305T110000
DTEND;TZID=America/New_York:20260305T140000
DTSTAMP:20260419T202455
CREATED:20260303T220002Z
LAST-MODIFIED:20260310T123136Z
UID:10009001-1772708400-1772719200@tomswatchbar.com
SUMMARY:NCAA-B (W): Loyola IL (8) VS St Bonaventure (9)
DESCRIPTION:The Best Place to Watch NCAA-B (W): Loyola IL (8) VS St Bonaventure (9) is at Tom’s Watch Bar! Tom’s Watch Bar is the home for NCAA-B (W)
URL:https://tomswatchbar.com/event/ncaa-b-w-loyola-il-8-vs-st-bonaventure-9/
LOCATION:ALL\, United States
CATEGORIES:NCAA-B (W)
END:VEVENT
BEGIN:VEVENT
DTSTART;TZID=America/New_York:20260305T120000
DTEND;TZID=America/New_York:20260305T150000
DTSTAMP:20260419T202455
CREATED:20260303T220004Z
LAST-MODIFIED:20260310T123137Z
UID:10009002-1772712000-1772722800@tomswatchbar.com
SUMMARY:NCAA-B (W): Eastern Kentucky (1) VS TBD
DESCRIPTION:The Best Place to Watch NCAA-B (W): Eastern Kentucky (1) VS TBD is at Tom’s Watch Bar! Tom’s Watch Bar is the home for NCAA-B (W)
URL:https://tomswatchbar.com/event/ncaa-b-w-eastern-kentucky-1-vs-tbd/
LOCATION:ALL\, United States
CATEGORIES:NCAA-B (W)
END:VEVENT
BEGIN:VEVENT
DTSTART;TZID=America/New_York:20260305T123000
DTEND;TZID=America/New_York:20260305T153000
DTSTAMP:20260419T202455
CREATED:20260303T220157Z
LAST-MODIFIED:20260310T123300Z
UID:10009003-1772713800-1772724600@tomswatchbar.com
SUMMARY:NCAA-B (W): Texas State (8) VS TBD
DESCRIPTION:The Best Place to Watch NCAA-B (W): Texas State (8) VS TBD is at Tom’s Watch Bar! Tom’s Watch Bar is the home for NCAA-B (W)
URL:https://tomswatchbar.com/event/ncaa-b-w-texas-state-8-vs-tbd/
LOCATION:ALL\, United States
CATEGORIES:NCAA-B (W)
END:VEVENT
BEGIN:VEVENT
DTSTART;TZID=America/New_York:20260305T133000
DTEND;TZID=America/New_York:20260305T163000
DTSTAMP:20260419T202455
CREATED:20260303T220159Z
LAST-MODIFIED:20260310T123301Z
UID:10009004-1772717400-1772728200@tomswatchbar.com
SUMMARY:NCAA-B (W): Saint Joseph's (5) VS TBD
DESCRIPTION:The Best Place to Watch NCAA-B (W): Saint Joseph’s (5) VS TBD is at Tom’s Watch Bar! Tom’s Watch Bar is the home for NCAA-B (W)
URL:https://tomswatchbar.com/event/ncaa-b-w-saint-josephs-5-vs-tbd/
LOCATION:ALL\, United States
CATEGORIES:NCAA-B (W)
END:VEVENT
BEGIN:VEVENT
DTSTART;TZID=America/New_York:20260305T133000
DTEND;TZID=America/New_York:20260305T163000
DTSTAMP:20260419T202455
CREATED:20260303T220201Z
LAST-MODIFIED:20260310T123303Z
UID:10009005-1772717400-1772728200@tomswatchbar.com
SUMMARY:NCAA-B (W): Morehead State (4) VS TBD
DESCRIPTION:The Best Place to Watch NCAA-B (W): Morehead State (4) VS TBD is at Tom’s Watch Bar! Tom’s Watch Bar is the home for NCAA-B (W)
URL:https://tomswatchbar.com/event/ncaa-b-w-morehead-state-4-vs-tbd/
LOCATION:ALL\, United States
CATEGORIES:NCAA-B (W)
END:VEVENT
BEGIN:VEVENT
DTSTART;TZID=America/New_York:20260305T143000
DTEND;TZID=America/New_York:20260305T173000
DTSTAMP:20260419T202455
CREATED:20260303T220203Z
LAST-MODIFIED:20260310T123304Z
UID:10009006-1772721000-1772731800@tomswatchbar.com
SUMMARY:NCAA-B (W): Stetson (4) VS TBD
DESCRIPTION:The Best Place to Watch NCAA-B (W): Stetson (4) VS TBD is at Tom’s Watch Bar! Tom’s Watch Bar is the home for NCAA-B (W)
URL:https://tomswatchbar.com/event/ncaa-b-w-stetson-4-vs-tbd/
LOCATION:ALL\, United States
CATEGORIES:NCAA-B (W)
END:VEVENT
BEGIN:VEVENT
DTSTART;TZID=America/New_York:20260305T150000
DTEND;TZID=America/New_York:20260305T180000
DTSTAMP:20260419T202455
CREATED:20260303T220250Z
LAST-MODIFIED:20260310T123320Z
UID:10009008-1772722800-1772733600@tomswatchbar.com
SUMMARY:NCAA-B (W): Southern Miss (7) VS TBD
DESCRIPTION:The Best Place to Watch NCAA-B (W): Southern Miss (7) VS TBD is at Tom’s Watch Bar! Tom’s Watch Bar is the home for NCAA-B (W)
URL:https://tomswatchbar.com/event/ncaa-b-w-southern-miss-7-vs-tbd/
LOCATION:ALL\, United States
CATEGORIES:NCAA-B (W)
END:VEVENT
BEGIN:VEVENT
DTSTART;TZID=America/New_York:20260305T160000
DTEND;TZID=America/New_York:20260305T190000
DTSTAMP:20260419T202455
CREATED:20260303T220205Z
LAST-MODIFIED:20260310T123306Z
UID:10009007-1772726400-1772737200@tomswatchbar.com
SUMMARY:NCAA-B (W): Southern Indiana (3) VS TBD
DESCRIPTION:The Best Place to Watch NCAA-B (W): Southern Indiana (3) VS TBD is at Tom’s Watch Bar! Tom’s Watch Bar is the home for NCAA-B (W)
URL:https://tomswatchbar.com/event/ncaa-b-w-southern-indiana-3-vs-tbd/
LOCATION:ALL\, United States
CATEGORIES:NCAA-B (W)
END:VEVENT
BEGIN:VEVENT
DTSTART;TZID=America/New_York:20260305T170000
DTEND;TZID=America/New_York:20260305T200000
DTSTAMP:20260419T202455
CREATED:20260303T220252Z
LAST-MODIFIED:20260310T123321Z
UID:10009009-1772730000-1772740800@tomswatchbar.com
SUMMARY:NCAA-B (W): Jacksonville (2) VS TBD
DESCRIPTION:The Best Place to Watch NCAA-B (W): Jacksonville (2) VS TBD is at Tom’s Watch Bar! Tom’s Watch Bar is the home for NCAA-B (W)
URL:https://tomswatchbar.com/event/ncaa-b-w-jacksonville-2-vs-tbd/
LOCATION:ALL\, United States
CATEGORIES:NCAA-B (W)
END:VEVENT
BEGIN:VEVENT
DTSTART;TZID=America/New_York:20260305T170000
DTEND;TZID=America/New_York:20260305T200000
DTSTAMP:20260419T202455
CREATED:20260303T220254Z
LAST-MODIFIED:20260310T123323Z
UID:10009010-1772730000-1772740800@tomswatchbar.com
SUMMARY:NCAA-B (W): George Washington (10) VS Dayton (7)
DESCRIPTION:The Best Place to Watch NCAA-B (W): George Washington (10) VS Dayton (7) is at Tom’s Watch Bar! Tom’s Watch Bar is the home for NCAA-B (W)
URL:https://tomswatchbar.com/event/ncaa-b-w-george-washington-10-vs-dayton-7/
LOCATION:ALL\, United States
CATEGORIES:NCAA-B (W)
END:VEVENT
BEGIN:VEVENT
DTSTART;TZID=America/New_York:20260305T180000
DTEND;TZID=America/New_York:20260305T210000
DTSTAMP:20260419T202455
CREATED:20260303T220256Z
LAST-MODIFIED:20260310T123324Z
UID:10009011-1772733600-1772744400@tomswatchbar.com
SUMMARY:NCAA-B (W): Vermont (1) VS Albany (8)
DESCRIPTION:The Best Place to Watch NCAA-B (W): Vermont (1) VS Albany (8) is at Tom’s Watch Bar! Tom’s Watch Bar is the home for NCAA-B (W)
URL:https://tomswatchbar.com/event/ncaa-b-w-vermont-1-vs-albany-8/
LOCATION:ALL\, United States
CATEGORIES:NCAA-B (W)
END:VEVENT
BEGIN:VEVENT
DTSTART;TZID=America/New_York:20260305T180000
DTEND;TZID=America/New_York:20260305T210000
DTSTAMP:20260419T202455
CREATED:20260303T220259Z
LAST-MODIFIED:20260310T123326Z
UID:10009012-1772733600-1772744400@tomswatchbar.com
SUMMARY:NCAA-B (W): Maine (2) VS New Hampshire (7)
DESCRIPTION:The Best Place to Watch NCAA-B (W): Maine (2) VS New Hampshire (7) is at Tom’s Watch Bar! Tom’s Watch Bar is the home for NCAA-B (W)
URL:https://tomswatchbar.com/event/ncaa-b-w-maine-2-vs-new-hampshire-7/
LOCATION:ALL\, United States
CATEGORIES:NCAA-B (W)
END:VEVENT
BEGIN:VEVENT
DTSTART;TZID=America/New_York:20260305T193000
DTEND;TZID=America/New_York:20260305T223000
DTSTAMP:20260419T202455
CREATED:20260303T221101Z
LAST-MODIFIED:20260310T123332Z
UID:10009013-1772739000-1772749800@tomswatchbar.com
SUMMARY:NCAA-B (W): Central Arkansas (3) VS TBD
DESCRIPTION:The Best Place to Watch NCAA-B (W): Central Arkansas (3) VS TBD is at Tom’s Watch Bar! Tom’s Watch Bar is the home for NCAA-B (W)
URL:https://tomswatchbar.com/event/ncaa-b-w-central-arkansas-3-vs-tbd/
LOCATION:ALL\, United States
CATEGORIES:NCAA-B (W)
END:VEVENT
BEGIN:VEVENT
DTSTART;TZID=America/New_York:20260305T193000
DTEND;TZID=America/New_York:20260305T223000
DTSTAMP:20260419T202455
CREATED:20260303T221103Z
LAST-MODIFIED:20260310T123333Z
UID:10009014-1772739000-1772749800@tomswatchbar.com
SUMMARY:NCAA-B (W): La Salle (6) VS TBD
DESCRIPTION:The Best Place to Watch NCAA-B (W): La Salle (6) VS TBD is at Tom’s Watch Bar! Tom’s Watch Bar is the home for NCAA-B (W)
URL:https://tomswatchbar.com/event/ncaa-b-w-la-salle-6-vs-tbd/
LOCATION:ALL\, United States
CATEGORIES:NCAA-B (W)
END:VEVENT
BEGIN:VEVENT
DTSTART;TZID=America/New_York:20260306T110000
DTEND;TZID=America/New_York:20260306T140000
DTSTAMP:20260419T202455
CREATED:20260303T221105Z
LAST-MODIFIED:20260310T123335Z
UID:10009015-1772794800-1772805600@tomswatchbar.com
SUMMARY:NCAA-B (W): Rhode Island (1) VS TBD
DESCRIPTION:The Best Place to Watch NCAA-B (W): Rhode Island (1) VS TBD is at Tom’s Watch Bar! Tom’s Watch Bar is the home for NCAA-B (W)
URL:https://tomswatchbar.com/event/ncaa-b-w-rhode-island-1-vs-tbd/
LOCATION:ALL\, United States
CATEGORIES:NCAA-B (W)
END:VEVENT
BEGIN:VEVENT
DTSTART;TZID=America/New_York:20260306T123000
DTEND;TZID=America/New_York:20260306T153000
DTSTAMP:20260419T202455
CREATED:20260303T221107Z
LAST-MODIFIED:20260310T123336Z
UID:10009016-1772800200-1772811000@tomswatchbar.com
SUMMARY:NCAA-B (W): Marshall (5) VS TBD
DESCRIPTION:The Best Place to Watch NCAA-B (W): Marshall (5) VS TBD is at Tom’s Watch Bar! Tom’s Watch Bar is the home for NCAA-B (W)
URL:https://tomswatchbar.com/event/ncaa-b-w-marshall-5-vs-tbd/
LOCATION:ALL\, United States
CATEGORIES:NCAA-B (W)
END:VEVENT
BEGIN:VEVENT
DTSTART;TZID=America/New_York:20260306T133000
DTEND;TZID=America/New_York:20260306T163000
DTSTAMP:20260419T202455
CREATED:20260303T221110Z
LAST-MODIFIED:20260310T123338Z
UID:10009017-1772803800-1772814600@tomswatchbar.com
SUMMARY:NCAA-B (W): Davidson (4) VS TBD
DESCRIPTION:The Best Place to Watch NCAA-B (W): Davidson (4) VS TBD is at Tom’s Watch Bar! Tom’s Watch Bar is the home for NCAA-B (W)
URL:https://tomswatchbar.com/event/ncaa-b-w-davidson-4-vs-tbd/
LOCATION:ALL\, United States
CATEGORIES:NCAA-B (W)
END:VEVENT
BEGIN:VEVENT
DTSTART;TZID=America/New_York:20260306T140000
DTEND;TZID=America/New_York:20260306T170000
DTSTAMP:20260419T202455
CREATED:20260303T221302Z
LAST-MODIFIED:20260310T123343Z
UID:10009018-1772805600-1772816400@tomswatchbar.com
SUMMARY:NCAA-B (W): Western Illinois (1) VS TBD
DESCRIPTION:The Best Place to Watch NCAA-B (W): Western Illinois (1) VS TBD is at Tom’s Watch Bar! Tom’s Watch Bar is the home for NCAA-B (W)
URL:https://tomswatchbar.com/event/ncaa-b-w-western-illinois-1-vs-tbd/
LOCATION:ALL\, United States
CATEGORIES:NCAA-B (W)
END:VEVENT
BEGIN:VEVENT
DTSTART;TZID=America/New_York:20260306T150000
DTEND;TZID=America/New_York:20260306T180000
DTSTAMP:20260419T202455
CREATED:20260303T221304Z
LAST-MODIFIED:20260310T123344Z
UID:10009019-1772809200-1772820000@tomswatchbar.com
SUMMARY:NCAA-B (W): Old Dominion (6) VS TBD
DESCRIPTION:The Best Place to Watch NCAA-B (W): Old Dominion (6) VS TBD is at Tom’s Watch Bar! Tom’s Watch Bar is the home for NCAA-B (W)
URL:https://tomswatchbar.com/event/ncaa-b-w-old-dominion-6-vs-tbd/
LOCATION:ALL\, United States
CATEGORIES:NCAA-B (W)
END:VEVENT
BEGIN:VEVENT
DTSTART;TZID=America/New_York:20260306T163000
DTEND;TZID=America/New_York:20260306T193000
DTSTAMP:20260419T202455
CREATED:20260303T221306Z
LAST-MODIFIED:20260310T123346Z
UID:10009020-1772814600-1772825400@tomswatchbar.com
SUMMARY:NCAA-B (W): Lindenwood (2) VS TBD
DESCRIPTION:The Best Place to Watch NCAA-B (W): Lindenwood (2) VS TBD is at Tom’s Watch Bar! Tom’s Watch Bar is the home for NCAA-B (W)
URL:https://tomswatchbar.com/event/ncaa-b-w-lindenwood-2-vs-tbd/
LOCATION:ALL\, United States
CATEGORIES:NCAA-B (W)
END:VEVENT
BEGIN:VEVENT
DTSTART;TZID=America/New_York:20260315T130000
DTEND;TZID=America/New_York:20260315T160000
DTSTAMP:20260419T202455
CREATED:20260312T194808Z
LAST-MODIFIED:20260312T201423Z
UID:10009046-1773579600-1773590400@tomswatchbar.com
SUMMARY:NCAA-B (M):  Selection day
DESCRIPTION:The Best Place to Watch NCAA-B (M):  Selection day is at Tom’s Watch Bar! Tom’s Watch Bar is the home for NCAA-B (M)
URL:https://tomswatchbar.com/event/ncaa-b-m-selection-day-2/
LOCATION:ALL\, United States
CATEGORIES:NCAA-B (MENS)
END:VEVENT
BEGIN:VEVENT
DTSTART;TZID=America/New_York:20260315T130000
DTEND;TZID=America/New_York:20260315T160000
DTSTAMP:20260419T202455
CREATED:20260312T195333Z
LAST-MODIFIED:20260312T201732Z
UID:10009060-1773579600-1773590400@tomswatchbar.com
SUMMARY:NCAA-B (W): Selection Day
DESCRIPTION:The Best Place to Watch NCAA-B (W): Selection Day is at Tom’s Watch Bar! Tom’s Watch Bar is the home for NCAA-B (W)
URL:https://tomswatchbar.com/event/ncaa-b-w-selection-day/
LOCATION:ALL\, United States
CATEGORIES:NCAA-B (W)
END:VEVENT
BEGIN:VEVENT
DTSTART;TZID=America/New_York:20260317T130000
DTEND;TZID=America/New_York:20260317T160000
DTSTAMP:20260419T202455
CREATED:20260312T194810Z
LAST-MODIFIED:20260312T201424Z
UID:10009047-1773752400-1773763200@tomswatchbar.com
SUMMARY:NCAA-B (M):  Play-in Tournament
DESCRIPTION:The Best Place to Watch NCAA-B (M):  Play-in Tournament is at Tom’s Watch Bar! Tom’s Watch Bar is the home for NCAA-B (M)
URL:https://tomswatchbar.com/event/ncaa-b-m-play-in-tournament-3/
LOCATION:ALL\, United States
CATEGORIES:NCAA-B (MENS)
END:VEVENT
BEGIN:VEVENT
DTSTART;TZID=America/New_York:20260317T130000
DTEND;TZID=America/New_York:20260317T160000
DTSTAMP:20260419T202455
CREATED:20260312T194813Z
LAST-MODIFIED:20260312T201426Z
UID:10009048-1773752400-1773763200@tomswatchbar.com
SUMMARY:NCAA-B (M): Play-in Tournament
DESCRIPTION:The Best Place to Watch NCAA-B (M): Play-in Tournament is at Tom’s Watch Bar! Tom’s Watch Bar is the home for NCAA-B (M)
URL:https://tomswatchbar.com/event/ncaa-b-m-play-in-tournament-4/
LOCATION:ALL\, United States
CATEGORIES:NCAA-B (MENS)
END:VEVENT
BEGIN:VEVENT
DTSTART;TZID=America/New_York:20260317T130000
DTEND;TZID=America/New_York:20260317T160000
DTSTAMP:20260419T202455
CREATED:20260312T194815Z
LAST-MODIFIED:20260312T201427Z
UID:10009049-1773752400-1773763200@tomswatchbar.com
SUMMARY:NCAA-B (M): First Round
DESCRIPTION:The Best Place to Watch NCAA-B (M): First Round is at Tom’s Watch Bar! Tom’s Watch Bar is the home for NCAA-B (M)
URL:https://tomswatchbar.com/event/ncaa-b-m-first-round-3/
LOCATION:ALL\, United States
CATEGORIES:NCAA-B (MENS)
END:VEVENT
BEGIN:VEVENT
DTSTART;TZID=America/New_York:20260318T130000
DTEND;TZID=America/New_York:20260318T160000
DTSTAMP:20260419T202455
CREATED:20260312T195335Z
LAST-MODIFIED:20260312T201733Z
UID:10009061-1773838800-1773849600@tomswatchbar.com
SUMMARY:NCAA-B (W): Play-in Tournament
DESCRIPTION:The Best Place to Watch NCAA-B (W): Play-in Tournament is at Tom’s Watch Bar! Tom’s Watch Bar is the home for NCAA-B (W)
URL:https://tomswatchbar.com/event/ncaa-b-w-play-in-tournament-3/
LOCATION:ALL\, United States
CATEGORIES:NCAA-B (W)
END:VEVENT
END:VCALENDAR