BEGIN:VCALENDAR
VERSION:2.0
PRODID:-//Tom&#039;s Watch Bar - ECPv6.15.18//NONSGML v1.0//EN
CALSCALE:GREGORIAN
METHOD:PUBLISH
X-WR-CALNAME:Tom&#039;s Watch Bar
X-ORIGINAL-URL:https://tomswatchbar.com
X-WR-CALDESC:Events for Tom&#039;s Watch Bar
REFRESH-INTERVAL;VALUE=DURATION:PT1H
X-Robots-Tag:noindex
X-PUBLISHED-TTL:PT1H
BEGIN:VTIMEZONE
TZID:America/New_York
BEGIN:DAYLIGHT
TZOFFSETFROM:-0500
TZOFFSETTO:-0400
TZNAME:EDT
DTSTART:20250309T070000
END:DAYLIGHT
BEGIN:STANDARD
TZOFFSETFROM:-0400
TZOFFSETTO:-0500
TZNAME:EST
DTSTART:20251102T060000
END:STANDARD
BEGIN:DAYLIGHT
TZOFFSETFROM:-0500
TZOFFSETTO:-0400
TZNAME:EDT
DTSTART:20260308T070000
END:DAYLIGHT
BEGIN:STANDARD
TZOFFSETFROM:-0400
TZOFFSETTO:-0500
TZNAME:EST
DTSTART:20261101T060000
END:STANDARD
BEGIN:DAYLIGHT
TZOFFSETFROM:-0500
TZOFFSETTO:-0400
TZNAME:EDT
DTSTART:20270314T070000
END:DAYLIGHT
BEGIN:STANDARD
TZOFFSETFROM:-0400
TZOFFSETTO:-0500
TZNAME:EST
DTSTART:20271107T060000
END:STANDARD
END:VTIMEZONE
BEGIN:VEVENT
DTSTART;TZID=America/New_York:20260226T193000
DTEND;TZID=America/New_York:20260226T223000
DTSTAMP:20260419T201518
CREATED:20260223T234559Z
LAST-MODIFIED:20260224T000534Z
UID:10008940-1772134200-1772145000@tomswatchbar.com
SUMMARY:NCAA-B (W) TOP 25: Vanderbilt (5) VS Alabama (24)
DESCRIPTION:The Best Place to Watch NCAA-B (W) TOP 25: Vanderbilt (5) VS Alabama (24) is at Tom’s Watch Bar! Tom’s Watch Bar is the home for NCAA-B (W)
URL:https://tomswatchbar.com/event/ncaa-b-w-top-25-vanderbilt-5-vs-alabama-24/
LOCATION:ALL\, United States
CATEGORIES:NCAA-B (W)
END:VEVENT
BEGIN:VEVENT
DTSTART;TZID=America/New_York:20260226T190000
DTEND;TZID=America/New_York:20260226T220000
DTSTAMP:20260419T201518
CREATED:20260224T001847Z
LAST-MODIFIED:20260303T215133Z
UID:10008981-1772132400-1772143200@tomswatchbar.com
SUMMARY:NCAA-B (M) TOP 25: UConn (6) VS Georgetown
DESCRIPTION:The Best Place to Watch NCAA-B (M) TOP 25: UConn (6) VS Georgetown is at Tom’s Watch Bar! Tom’s Watch Bar is the home for NCAA-B (M)
URL:https://tomswatchbar.com/event/ncaa-b-m-top-25-uconn-6-vs-georgetown-2/
LOCATION:ALL\, United States
CATEGORIES:NCAA-B (MENS)
END:VEVENT
BEGIN:VEVENT
DTSTART;TZID=America/New_York:20260226T190000
DTEND;TZID=America/New_York:20260226T220000
DTSTAMP:20260419T201518
CREATED:20260224T001843Z
LAST-MODIFIED:20260303T214938Z
UID:10008980-1772132400-1772143200@tomswatchbar.com
SUMMARY:NCAA-B (M) TOP 25: Virginia (11) VS North Carolina (18)
DESCRIPTION:The Best Place to Watch NCAA-B (M) TOP 25: Virginia (11) VS North Carolina (18) is at Tom’s Watch Bar! Tom’s Watch Bar is the home for NCAA-B (M)
URL:https://tomswatchbar.com/event/ncaa-b-m-top-25-virginia-11-vs-north-carolina-18/
LOCATION:ALL\, United States
CATEGORIES:NCAA-B (MENS)
END:VEVENT
BEGIN:VEVENT
DTSTART;TZID=America/New_York:20260226T190000
DTEND;TZID=America/New_York:20260226T220000
DTSTAMP:20260419T201518
CREATED:20260224T001841Z
LAST-MODIFIED:20260303T214936Z
UID:10008979-1772132400-1772143200@tomswatchbar.com
SUMMARY:NCAA-B (M) TOP 25: Auburn VS Kentucky (16)
DESCRIPTION:The Best Place to Watch NCAA-B (M) TOP 25: Auburn VS Kentucky (16) is at Tom’s Watch Bar! Tom’s Watch Bar is the home for NCAA-B (M)
URL:https://tomswatchbar.com/event/ncaa-b-m-top-25-auburn-vs-kentucky-16/
LOCATION:ALL\, United States
CATEGORIES:NCAA-B (MENS)
END:VEVENT
BEGIN:VEVENT
DTSTART;TZID=America/New_York:20260226T190000
DTEND;TZID=America/New_York:20260226T220000
DTSTAMP:20260419T201518
CREATED:20260224T001839Z
LAST-MODIFIED:20260303T214935Z
UID:10008978-1772132400-1772143200@tomswatchbar.com
SUMMARY:NCAA-B (M) TOP 25: Oklahoma VS Arkansas (20)
DESCRIPTION:The Best Place to Watch NCAA-B (M) TOP 25: Oklahoma VS Arkansas (20) is at Tom’s Watch Bar! Tom’s Watch Bar is the home for NCAA-B (M)
URL:https://tomswatchbar.com/event/ncaa-b-m-top-25-oklahoma-vs-arkansas-20/
LOCATION:ALL\, United States
CATEGORIES:NCAA-B (MENS)
END:VEVENT
BEGIN:VEVENT
DTSTART;TZID=America/New_York:20260226T190000
DTEND;TZID=America/New_York:20260226T220000
DTSTAMP:20260419T201518
CREATED:20260223T234556Z
LAST-MODIFIED:20260224T000532Z
UID:10008939-1772132400-1772143200@tomswatchbar.com
SUMMARY:NCAA-B (W) TOP 25: Georgetown VS UConn (1)
DESCRIPTION:The Best Place to Watch NCAA-B (W) TOP 25: Georgetown VS UConn (1) is at Tom’s Watch Bar! Tom’s Watch Bar is the home for NCAA-B (W)
URL:https://tomswatchbar.com/event/ncaa-b-w-top-25-georgetown-vs-uconn-1-2/
LOCATION:ALL\, United States
CATEGORIES:NCAA-B (W)
END:VEVENT
BEGIN:VEVENT
DTSTART;TZID=America/New_York:20260226T190000
DTEND;TZID=America/New_York:20260226T220000
DTSTAMP:20260419T201518
CREATED:20260223T234554Z
LAST-MODIFIED:20260224T000531Z
UID:10008938-1772132400-1772143200@tomswatchbar.com
SUMMARY:NCAA-B (W) TOP 25: Virginia VS North Carolina (21)
DESCRIPTION:The Best Place to Watch NCAA-B (W) TOP 25: Virginia VS North Carolina (21) is at Tom’s Watch Bar! Tom’s Watch Bar is the home for NCAA-B (W)
URL:https://tomswatchbar.com/event/ncaa-b-w-top-25-virginia-vs-north-carolina-21/
LOCATION:ALL\, United States
CATEGORIES:NCAA-B (W)
END:VEVENT
BEGIN:VEVENT
DTSTART;TZID=America/New_York:20260226T190000
DTEND;TZID=America/New_York:20260226T220000
DTSTAMP:20260419T201518
CREATED:20260223T234552Z
LAST-MODIFIED:20260224T000529Z
UID:10008937-1772132400-1772143200@tomswatchbar.com
SUMMARY:NCAA-B (W) TOP 25: Auburn VS Kentucky (16)
DESCRIPTION:The Best Place to Watch NCAA-B (W) TOP 25: Auburn VS Kentucky (16) is at Tom’s Watch Bar! Tom’s Watch Bar is the home for NCAA-B (W)
URL:https://tomswatchbar.com/event/ncaa-b-w-top-25-auburn-vs-kentucky-16/
LOCATION:ALL\, United States
CATEGORIES:NCAA-B (W)
END:VEVENT
BEGIN:VEVENT
DTSTART;TZID=America/New_York:20260226T190000
DTEND;TZID=America/New_York:20260226T220000
DTSTAMP:20260419T201518
CREATED:20260223T234550Z
LAST-MODIFIED:20260224T000527Z
UID:10008936-1772132400-1772143200@tomswatchbar.com
SUMMARY:NCAA-B (W) TOP 25: Oklahoma (7) VS Arkansas
DESCRIPTION:The Best Place to Watch NCAA-B (W) TOP 25: Oklahoma (7) VS Arkansas is at Tom’s Watch Bar! Tom’s Watch Bar is the home for NCAA-B (W)
URL:https://tomswatchbar.com/event/ncaa-b-w-top-25-oklahoma-7-vs-arkansas/
LOCATION:ALL\, United States
CATEGORIES:NCAA-B (W)
END:VEVENT
BEGIN:VEVENT
DTSTART;TZID=America/New_York:20260226T180000
DTEND;TZID=America/New_York:20260226T210000
DTSTAMP:20260419T201518
CREATED:20260224T001837Z
LAST-MODIFIED:20260303T214933Z
UID:10008977-1772128800-1772139600@tomswatchbar.com
SUMMARY:NCAA-B (M) TOP 25: Georgia Tech VS Louisville (24)
DESCRIPTION:The Best Place to Watch NCAA-B (M) TOP 25: Georgia Tech VS Louisville (24) is at Tom’s Watch Bar! Tom’s Watch Bar is the home for NCAA-B (M)
URL:https://tomswatchbar.com/event/ncaa-b-m-top-25-georgia-tech-vs-louisville-24/
LOCATION:ALL\, United States
CATEGORIES:NCAA-B (MENS)
END:VEVENT
BEGIN:VEVENT
DTSTART;TZID=America/New_York:20260226T180000
DTEND;TZID=America/New_York:20260226T210000
DTSTAMP:20260419T201518
CREATED:20260224T001834Z
LAST-MODIFIED:20260303T214931Z
UID:10008976-1772128800-1772139600@tomswatchbar.com
SUMMARY:NCAA-B (M) TOP 25: Florida (7) VS Ole Miss
DESCRIPTION:The Best Place to Watch NCAA-B (M) TOP 25: Florida (7) VS Ole Miss is at Tom’s Watch Bar! Tom’s Watch Bar is the home for NCAA-B (M)
URL:https://tomswatchbar.com/event/ncaa-b-m-top-25-florida-7-vs-ole-miss/
LOCATION:ALL\, United States
CATEGORIES:NCAA-B (MENS)
END:VEVENT
BEGIN:VEVENT
DTSTART;TZID=America/New_York:20260226T180000
DTEND;TZID=America/New_York:20260226T210000
DTSTAMP:20260419T201518
CREATED:20260224T001829Z
LAST-MODIFIED:20260303T214736Z
UID:10008975-1772128800-1772139600@tomswatchbar.com
SUMMARY:NCAA-B (M) TOP 25: LSU VS Tennessee (22)
DESCRIPTION:The Best Place to Watch NCAA-B (M) TOP 25: LSU VS Tennessee (22) is at Tom’s Watch Bar! Tom’s Watch Bar is the home for NCAA-B (M)
URL:https://tomswatchbar.com/event/ncaa-b-m-top-25-lsu-vs-tennessee-22/
LOCATION:ALL\, United States
CATEGORIES:NCAA-B (MENS)
END:VEVENT
BEGIN:VEVENT
DTSTART;TZID=America/New_York:20260226T180000
DTEND;TZID=America/New_York:20260226T210000
DTSTAMP:20260419T201518
CREATED:20260223T234544Z
LAST-MODIFIED:20260224T000521Z
UID:10008935-1772128800-1772139600@tomswatchbar.com
SUMMARY:NCAA-B (W) TOP 25: Georgia Tech VS Louisville (10)
DESCRIPTION:The Best Place to Watch NCAA-B (W) TOP 25: Georgia Tech VS Louisville (10) is at Tom’s Watch Bar! Tom’s Watch Bar is the home for NCAA-B (W)
URL:https://tomswatchbar.com/event/ncaa-b-w-top-25-georgia-tech-vs-louisville-10/
LOCATION:ALL\, United States
CATEGORIES:NCAA-B (W)
END:VEVENT
BEGIN:VEVENT
DTSTART;TZID=America/New_York:20260226T180000
DTEND;TZID=America/New_York:20260226T210000
DTSTAMP:20260419T201518
CREATED:20260223T234542Z
LAST-MODIFIED:20260224T000519Z
UID:10008934-1772128800-1772139600@tomswatchbar.com
SUMMARY:NCAA-B (W) TOP 25: Florida VS Ole Miss (19)
DESCRIPTION:The Best Place to Watch NCAA-B (W) TOP 25: Florida VS Ole Miss (19) is at Tom’s Watch Bar! Tom’s Watch Bar is the home for NCAA-B (W)
URL:https://tomswatchbar.com/event/ncaa-b-w-top-25-florida-vs-ole-miss-19/
LOCATION:ALL\, United States
CATEGORIES:NCAA-B (W)
END:VEVENT
BEGIN:VEVENT
DTSTART;TZID=America/New_York:20260226T180000
DTEND;TZID=America/New_York:20260226T210000
DTSTAMP:20260419T201518
CREATED:20260223T234540Z
LAST-MODIFIED:20260224T000517Z
UID:10008933-1772128800-1772139600@tomswatchbar.com
SUMMARY:NCAA-B (W) TOP 25: LSU (6) VS Tennessee
DESCRIPTION:The Best Place to Watch NCAA-B (W) TOP 25: LSU (6) VS Tennessee is at Tom’s Watch Bar! Tom’s Watch Bar is the home for NCAA-B (W)
URL:https://tomswatchbar.com/event/ncaa-b-w-top-25-lsu-6-vs-tennessee/
LOCATION:ALL\, United States
CATEGORIES:NCAA-B (W)
END:VEVENT
BEGIN:VEVENT
DTSTART;TZID=America/New_York:20260225T230000
DTEND;TZID=America/New_York:20260226T020000
DTSTAMP:20260419T201518
CREATED:20260224T001827Z
LAST-MODIFIED:20260303T214734Z
UID:10008974-1772060400-1772071200@tomswatchbar.com
SUMMARY:NCAA-B (M) TOP 25: Oregon VS Wisconsin (24)
DESCRIPTION:The Best Place to Watch NCAA-B (M) TOP 25: Oregon VS Wisconsin (24) is at Tom’s Watch Bar! Tom’s Watch Bar is the home for NCAA-B (M)
URL:https://tomswatchbar.com/event/ncaa-b-m-top-25-oregon-vs-wisconsin-24/
LOCATION:ALL\, United States
CATEGORIES:NCAA-B (MENS)
END:VEVENT
BEGIN:VEVENT
DTSTART;TZID=America/New_York:20260225T210000
DTEND;TZID=America/New_York:20260226T000000
DTSTAMP:20260419T201518
CREATED:20260224T001825Z
LAST-MODIFIED:20260303T214733Z
UID:10008973-1772053200-1772064000@tomswatchbar.com
SUMMARY:NCAA-B (M) TOP 25: Gonzaga (9) VS Portland
DESCRIPTION:The Best Place to Watch NCAA-B (M) TOP 25: Gonzaga (9) VS Portland is at Tom’s Watch Bar! Tom’s Watch Bar is the home for NCAA-B (M)
URL:https://tomswatchbar.com/event/ncaa-b-m-top-25-gonzaga-9-vs-portland/
LOCATION:ALL\, United States
CATEGORIES:NCAA-B (MENS)
END:VEVENT
BEGIN:VEVENT
DTSTART;TZID=America/New_York:20260225T210000
DTEND;TZID=America/New_York:20260226T000000
DTSTAMP:20260419T201518
CREATED:20260224T001823Z
LAST-MODIFIED:20260303T214731Z
UID:10008972-1772053200-1772064000@tomswatchbar.com
SUMMARY:NCAA-B (M) TOP 25: Alabama (17) VS MS State
DESCRIPTION:The Best Place to Watch NCAA-B (M) TOP 25: Alabama (17) VS MS State is at Tom’s Watch Bar! Tom’s Watch Bar is the home for NCAA-B (M)
URL:https://tomswatchbar.com/event/ncaa-b-m-top-25-alabama-17-vs-ms-state/
LOCATION:ALL\, United States
CATEGORIES:NCAA-B (MENS)
END:VEVENT
BEGIN:VEVENT
DTSTART;TZID=America/New_York:20260225T210000
DTEND;TZID=America/New_York:20260226T000000
DTSTAMP:20260419T201518
CREATED:20260224T001821Z
LAST-MODIFIED:20260303T214730Z
UID:10008971-1772053200-1772064000@tomswatchbar.com
SUMMARY:NCAA-B (M) TOP 25: Arkansas (20) VS Texas A&M
DESCRIPTION:The Best Place to Watch NCAA-B (M) TOP 25: Arkansas (20) VS Texas A&M is at Tom’s Watch Bar! Tom’s Watch Bar is the home for NCAA-B (M)
URL:https://tomswatchbar.com/event/ncaa-b-m-top-25-arkansas-20-vs-texas-am/
LOCATION:ALL\, United States
CATEGORIES:NCAA-B (MENS)
END:VEVENT
BEGIN:VEVENT
DTSTART;TZID=America/New_York:20260225T200000
DTEND;TZID=America/New_York:20260225T230000
DTSTAMP:20260419T201518
CREATED:20260223T234538Z
LAST-MODIFIED:20260224T000515Z
UID:10008932-1772049600-1772060400@tomswatchbar.com
SUMMARY:NCAA-B (W) TOP 25: Ohio State (13) VS Michigan (8)
DESCRIPTION:The Best Place to Watch NCAA-B (W) TOP 25: Ohio State (13) VS Michigan (8) is at Tom’s Watch Bar! Tom’s Watch Bar is the home for NCAA-B (W)
URL:https://tomswatchbar.com/event/ncaa-b-w-top-25-ohio-state-13-vs-michigan-8/
LOCATION:ALL\, United States
CATEGORIES:NCAA-B (W)
END:VEVENT
BEGIN:VEVENT
DTSTART;TZID=America/New_York:20260225T193000
DTEND;TZID=America/New_York:20260225T223000
DTSTAMP:20260419T201518
CREATED:20260223T234535Z
LAST-MODIFIED:20260224T000513Z
UID:10008931-1772047800-1772058600@tomswatchbar.com
SUMMARY:NCAA-B (W) TOP 25: Kansas VS Texas Tech (20)
DESCRIPTION:The Best Place to Watch NCAA-B (W) TOP 25: Kansas VS Texas Tech (20) is at Tom’s Watch Bar! Tom’s Watch Bar is the home for NCAA-B (W)
URL:https://tomswatchbar.com/event/ncaa-b-w-top-25-kansas-vs-texas-tech-20/
LOCATION:ALL\, United States
CATEGORIES:NCAA-B (W)
END:VEVENT
BEGIN:VEVENT
DTSTART;TZID=America/New_York:20260225T190000
DTEND;TZID=America/New_York:20260225T220000
DTSTAMP:20260419T201518
CREATED:20260224T001814Z
LAST-MODIFIED:20260303T214535Z
UID:10008970-1772046000-1772056800@tomswatchbar.com
SUMMARY:NCAA-B (M) TOP 25: Vanderbilt (25) VS Georgia (23)
DESCRIPTION:The Best Place to Watch NCAA-B (M) TOP 25: Vanderbilt (25) VS Georgia (23) is at Tom’s Watch Bar! Tom’s Watch Bar is the home for NCAA-B (M)
URL:https://tomswatchbar.com/event/ncaa-b-m-top-25-vanderbilt-25-vs-georgia-23/
LOCATION:ALL\, United States
CATEGORIES:NCAA-B (MENS)
END:VEVENT
BEGIN:VEVENT
DTSTART;TZID=America/New_York:20260225T190000
DTEND;TZID=America/New_York:20260225T220000
DTSTAMP:20260419T201518
CREATED:20260224T001812Z
LAST-MODIFIED:20260303T214533Z
UID:10008969-1772046000-1772056800@tomswatchbar.com
SUMMARY:NCAA-B (M) TOP 25: Texas VS Florida (7)
DESCRIPTION:The Best Place to Watch NCAA-B (M) TOP 25: Texas VS Florida (7) is at Tom’s Watch Bar! Tom’s Watch Bar is the home for NCAA-B (M)
URL:https://tomswatchbar.com/event/ncaa-b-m-top-25-texas-vs-florida-7/
LOCATION:ALL\, United States
CATEGORIES:NCAA-B (MENS)
END:VEVENT
BEGIN:VEVENT
DTSTART;TZID=America/New_York:20260225T190000
DTEND;TZID=America/New_York:20260225T220000
DTSTAMP:20260419T201518
CREATED:20260224T001810Z
LAST-MODIFIED:20260303T214532Z
UID:10008968-1772046000-1772056800@tomswatchbar.com
SUMMARY:NCAA-B (M) TOP 25: UConn (6) VS St. John’s (15)
DESCRIPTION:The Best Place to Watch NCAA-B (M) TOP 25: UConn (6) VS St. John’s (15) is at Tom’s Watch Bar! Tom’s Watch Bar is the home for NCAA-B (M)
URL:https://tomswatchbar.com/event/ncaa-b-m-top-25-uconn-6-vs-st-johns-15/
LOCATION:ALL\, United States
CATEGORIES:NCAA-B (MENS)
END:VEVENT
BEGIN:VEVENT
DTSTART;TZID=America/New_York:20260225T190000
DTEND;TZID=America/New_York:20260225T220000
DTSTAMP:20260419T201518
CREATED:20260224T001807Z
LAST-MODIFIED:20260303T214530Z
UID:10008967-1772046000-1772056800@tomswatchbar.com
SUMMARY:NCAA-B (M) TOP 25: Nebraska (12) VS Maryland
DESCRIPTION:The Best Place to Watch NCAA-B (M) TOP 25: Nebraska (12) VS Maryland is at Tom’s Watch Bar! Tom’s Watch Bar is the home for NCAA-B (M)
URL:https://tomswatchbar.com/event/ncaa-b-m-top-25-nebraska-12-vs-maryland/
LOCATION:ALL\, United States
CATEGORIES:NCAA-B (MENS)
END:VEVENT
BEGIN:VEVENT
DTSTART;TZID=America/New_York:20260225T190000
DTEND;TZID=America/New_York:20260225T220000
DTSTAMP:20260419T201518
CREATED:20260223T234523Z
LAST-MODIFIED:20260224T000459Z
UID:10008930-1772046000-1772056800@tomswatchbar.com
SUMMARY:NCAA-B (W) TOP 25: UCF VS West Virginia (17)
DESCRIPTION:The Best Place to Watch NCAA-B (W) TOP 25: UCF VS West Virginia (17) is at Tom’s Watch Bar! Tom’s Watch Bar is the home for NCAA-B (W)
URL:https://tomswatchbar.com/event/ncaa-b-w-top-25-ucf-vs-west-virginia-17/
LOCATION:ALL\, United States
CATEGORIES:NCAA-B (W)
END:VEVENT
BEGIN:VEVENT
DTSTART;TZID=America/New_York:20260225T183000
DTEND;TZID=America/New_York:20260225T213000
DTSTAMP:20260419T201518
CREATED:20260223T234521Z
LAST-MODIFIED:20260224T000457Z
UID:10008929-1772044200-1772055000@tomswatchbar.com
SUMMARY:NCAA-B (W) TOP 25: Maryland (14) VS Northwestern
DESCRIPTION:The Best Place to Watch NCAA-B (W) TOP 25: Maryland (14) VS Northwestern is at Tom’s Watch Bar! Tom’s Watch Bar is the home for NCAA-B (W)
URL:https://tomswatchbar.com/event/ncaa-b-w-top-25-maryland-14-vs-northwestern/
LOCATION:ALL\, United States
CATEGORIES:NCAA-B (W)
END:VEVENT
BEGIN:VEVENT
DTSTART;TZID=America/New_York:20260225T183000
DTEND;TZID=America/New_York:20260225T213000
DTSTAMP:20260419T201518
CREATED:20260223T234519Z
LAST-MODIFIED:20260224T000455Z
UID:10008928-1772044200-1772055000@tomswatchbar.com
SUMMARY:NCAA-B (W) TOP 25: Cincinnati VS TCU (11)
DESCRIPTION:The Best Place to Watch NCAA-B (W) TOP 25: Cincinnati VS TCU (11) is at Tom’s Watch Bar! Tom’s Watch Bar is the home for NCAA-B (W)
URL:https://tomswatchbar.com/event/ncaa-b-w-top-25-cincinnati-vs-tcu-11/
LOCATION:ALL\, United States
CATEGORIES:NCAA-B (W)
END:VEVENT
BEGIN:VEVENT
DTSTART;TZID=America/New_York:20260224T230000
DTEND;TZID=America/New_York:20260225T020000
DTSTAMP:20260419T201518
CREATED:20260224T001805Z
LAST-MODIFIED:20260303T214529Z
UID:10008966-1771974000-1771984800@tomswatchbar.com
SUMMARY:NCAA-B (M) TOP 25: BYU (19) VS UCF
DESCRIPTION:The Best Place to Watch NCAA-B (M) TOP 25: BYU (19) VS UCF is at Tom’s Watch Bar! Tom’s Watch Bar is the home for NCAA-B (M)
URL:https://tomswatchbar.com/event/ncaa-b-m-top-25-byu-19-vs-ucf/
LOCATION:ALL\, United States
CATEGORIES:NCAA-B (MENS)
END:VEVENT
BEGIN:VEVENT
DTSTART;TZID=America/New_York:20260224T210000
DTEND;TZID=America/New_York:20260225T000000
DTSTAMP:20260419T201518
CREATED:20260224T001750Z
LAST-MODIFIED:20260303T214337Z
UID:10008965-1771966800-1771977600@tomswatchbar.com
SUMMARY:NCAA-B (M) TOP 25: Baylor (18) VS Arizona (2)
DESCRIPTION:The Best Place to Watch NCAA-B (M) TOP 25: Baylor (18) VS Arizona (2) is at Tom’s Watch Bar! Tom’s Watch Bar is the home for NCAA-B (M)
URL:https://tomswatchbar.com/event/ncaa-b-m-top-25-baylor-18-vs-arizona-2/
LOCATION:ALL\, United States
CATEGORIES:NCAA-B (MENS)
END:VEVENT
END:VCALENDAR