BEGIN:VCALENDAR
VERSION:2.0
PRODID:-//Tom&#039;s Watch Bar - ECPv6.15.18//NONSGML v1.0//EN
CALSCALE:GREGORIAN
METHOD:PUBLISH
X-WR-CALNAME:Tom&#039;s Watch Bar
X-ORIGINAL-URL:https://tomswatchbar.com
X-WR-CALDESC:Events for Tom&#039;s Watch Bar
REFRESH-INTERVAL;VALUE=DURATION:PT1H
X-Robots-Tag:noindex
X-PUBLISHED-TTL:PT1H
BEGIN:VTIMEZONE
TZID:America/New_York
BEGIN:DAYLIGHT
TZOFFSETFROM:-0500
TZOFFSETTO:-0400
TZNAME:EDT
DTSTART:20250309T070000
END:DAYLIGHT
BEGIN:STANDARD
TZOFFSETFROM:-0400
TZOFFSETTO:-0500
TZNAME:EST
DTSTART:20251102T060000
END:STANDARD
BEGIN:DAYLIGHT
TZOFFSETFROM:-0500
TZOFFSETTO:-0400
TZNAME:EDT
DTSTART:20260308T070000
END:DAYLIGHT
BEGIN:STANDARD
TZOFFSETFROM:-0400
TZOFFSETTO:-0500
TZNAME:EST
DTSTART:20261101T060000
END:STANDARD
BEGIN:DAYLIGHT
TZOFFSETFROM:-0500
TZOFFSETTO:-0400
TZNAME:EDT
DTSTART:20270314T070000
END:DAYLIGHT
BEGIN:STANDARD
TZOFFSETFROM:-0400
TZOFFSETTO:-0500
TZNAME:EST
DTSTART:20271107T060000
END:STANDARD
END:VTIMEZONE
BEGIN:VEVENT
DTSTART;TZID=America/New_York:20260322T130000
DTEND;TZID=America/New_York:20260322T160000
DTSTAMP:20260420T050343
CREATED:20260312T195352Z
LAST-MODIFIED:20260312T201749Z
UID:10009064-1774184400-1774195200@tomswatchbar.com
SUMMARY:NCAA-B (W): Second Round
DESCRIPTION:The Best Place to Watch NCAA-B (W): Second Round is at Tom’s Watch Bar! Tom’s Watch Bar is the home for NCAA-B (W)
URL:https://tomswatchbar.com/event/ncaa-b-w-second-round-2/
LOCATION:ALL\, United States
CATEGORIES:NCAA-B (W)
END:VEVENT
BEGIN:VEVENT
DTSTART;TZID=America/New_York:20260326T130000
DTEND;TZID=America/New_York:20260326T160000
DTSTAMP:20260420T050343
CREATED:20260312T194833Z
LAST-MODIFIED:20260312T201445Z
UID:10009053-1774530000-1774540800@tomswatchbar.com
SUMMARY:NCAA-B (M): Round 16
DESCRIPTION:The Best Place to Watch NCAA-B (M): Round 16 is at Tom’s Watch Bar! Tom’s Watch Bar is the home for NCAA-B (M)
URL:https://tomswatchbar.com/event/ncaa-b-m-round-16-3/
LOCATION:ALL\, United States
CATEGORIES:NCAA-B (MENS)
END:VEVENT
BEGIN:VEVENT
DTSTART;TZID=America/New_York:20260327T130000
DTEND;TZID=America/New_York:20260327T160000
DTSTAMP:20260420T050343
CREATED:20260312T194837Z
LAST-MODIFIED:20260312T201446Z
UID:10009054-1774616400-1774627200@tomswatchbar.com
SUMMARY:NCAA-B (M): Round 16
DESCRIPTION:The Best Place to Watch NCAA-B (M): Round 16 is at Tom’s Watch Bar! Tom’s Watch Bar is the home for NCAA-B (M)
URL:https://tomswatchbar.com/event/ncaa-b-m-round-16-4/
LOCATION:ALL\, United States
CATEGORIES:NCAA-B (MENS)
END:VEVENT
BEGIN:VEVENT
DTSTART;TZID=America/New_York:20260327T130000
DTEND;TZID=America/New_York:20260327T160000
DTSTAMP:20260420T050343
CREATED:20260312T195355Z
LAST-MODIFIED:20260312T201751Z
UID:10009065-1774616400-1774627200@tomswatchbar.com
SUMMARY:NCAA-B (W): Round 16
DESCRIPTION:The Best Place to Watch NCAA-B (W): Round 16 is at Tom’s Watch Bar! Tom’s Watch Bar is the home for NCAA-B (W)
URL:https://tomswatchbar.com/event/ncaa-b-w-round-16-3/
LOCATION:ALL\, United States
CATEGORIES:NCAA-B (W)
END:VEVENT
BEGIN:VEVENT
DTSTART;TZID=America/New_York:20260328T130000
DTEND;TZID=America/New_York:20260328T160000
DTSTAMP:20260420T050343
CREATED:20260312T194839Z
LAST-MODIFIED:20260312T201448Z
UID:10009055-1774702800-1774713600@tomswatchbar.com
SUMMARY:NCAA-B (M): Round 8
DESCRIPTION:The Best Place to Watch NCAA-B (M): Round 8 is at Tom’s Watch Bar! Tom’s Watch Bar is the home for NCAA-B (M)
URL:https://tomswatchbar.com/event/ncaa-b-m-round-8-3/
LOCATION:ALL\, United States
CATEGORIES:NCAA-B (MENS)
END:VEVENT
BEGIN:VEVENT
DTSTART;TZID=America/New_York:20260328T130000
DTEND;TZID=America/New_York:20260328T160000
DTSTAMP:20260420T050343
CREATED:20260312T195357Z
LAST-MODIFIED:20260312T201752Z
UID:10009066-1774702800-1774713600@tomswatchbar.com
SUMMARY:NCAA-B (W): Round 16
DESCRIPTION:The Best Place to Watch NCAA-B (W): Round 16 is at Tom’s Watch Bar! Tom’s Watch Bar is the home for NCAA-B (W)
URL:https://tomswatchbar.com/event/ncaa-b-w-round-16-4/
LOCATION:ALL\, United States
CATEGORIES:NCAA-B (W)
END:VEVENT
BEGIN:VEVENT
DTSTART;TZID=America/New_York:20260329T130000
DTEND;TZID=America/New_York:20260329T160000
DTSTAMP:20260420T050343
CREATED:20260312T194926Z
LAST-MODIFIED:20260312T201456Z
UID:10009057-1774789200-1774800000@tomswatchbar.com
SUMMARY:NCAA-B (M): Round 8
DESCRIPTION:The Best Place to Watch NCAA-B (M): Round 8 is at Tom’s Watch Bar! Tom’s Watch Bar is the home for NCAA-B (M)
URL:https://tomswatchbar.com/event/ncaa-b-m-round-8-4/
LOCATION:ALL\, United States
CATEGORIES:NCAA-B (MENS)
END:VEVENT
BEGIN:VEVENT
DTSTART;TZID=America/New_York:20260329T130000
DTEND;TZID=America/New_York:20260329T160000
DTSTAMP:20260420T050343
CREATED:20260312T195359Z
LAST-MODIFIED:20260312T201754Z
UID:10009067-1774789200-1774800000@tomswatchbar.com
SUMMARY:NCAA-B (W): Round 8
DESCRIPTION:The Best Place to Watch NCAA-B (W): Round 8 is at Tom’s Watch Bar! Tom’s Watch Bar is the home for NCAA-B (W)
URL:https://tomswatchbar.com/event/ncaa-b-w-round-8-3/
LOCATION:ALL\, United States
CATEGORIES:NCAA-B (W)
END:VEVENT
BEGIN:VEVENT
DTSTART;TZID=America/New_York:20260330T130000
DTEND;TZID=America/New_York:20260330T160000
DTSTAMP:20260420T050343
CREATED:20260312T195402Z
LAST-MODIFIED:20260312T201755Z
UID:10009068-1774875600-1774886400@tomswatchbar.com
SUMMARY:NCAA-B (W): Round 8
DESCRIPTION:The Best Place to Watch NCAA-B (W): Round 8 is at Tom’s Watch Bar! Tom’s Watch Bar is the home for NCAA-B (W)
URL:https://tomswatchbar.com/event/ncaa-b-w-round-8-4/
LOCATION:ALL\, United States
CATEGORIES:NCAA-B (W)
END:VEVENT
BEGIN:VEVENT
DTSTART;TZID=America/New_York:20260403T130000
DTEND;TZID=America/New_York:20260403T160000
DTSTAMP:20260420T050343
CREATED:20260312T194928Z
LAST-MODIFIED:20260312T201457Z
UID:10009058-1775221200-1775232000@tomswatchbar.com
SUMMARY:NCAA-B (M): Semi Finals
DESCRIPTION:The Best Place to Watch NCAA-B (M): Semi Finals is at Tom’s Watch Bar! Tom’s Watch Bar is the home for NCAA-B (M)
URL:https://tomswatchbar.com/event/ncaa-b-m-semi-finals-2/
LOCATION:ALL\, United States
CATEGORIES:NCAA-B (MENS)
END:VEVENT
BEGIN:VEVENT
DTSTART;TZID=America/New_York:20260403T130000
DTEND;TZID=America/New_York:20260403T160000
DTSTAMP:20260420T050343
CREATED:20260312T195407Z
LAST-MODIFIED:20260312T201803Z
UID:10009069-1775221200-1775232000@tomswatchbar.com
SUMMARY:NCAA-B (W): Semi Finals
DESCRIPTION:The Best Place to Watch NCAA-B (W): Semi Finals is at Tom’s Watch Bar! Tom’s Watch Bar is the home for NCAA-B (W)
URL:https://tomswatchbar.com/event/ncaa-b-w-semi-finals-2/
LOCATION:ALL\, United States
CATEGORIES:NCAA-B (W)
END:VEVENT
BEGIN:VEVENT
DTSTART;TZID=America/New_York:20260405T130000
DTEND;TZID=America/New_York:20260405T160000
DTSTAMP:20260420T050343
CREATED:20260312T195409Z
LAST-MODIFIED:20260312T201805Z
UID:10009070-1775394000-1775404800@tomswatchbar.com
SUMMARY:NCAA-B (W): Finals
DESCRIPTION:The Best Place to Watch NCAA-B (W): Finals is at Tom’s Watch Bar! Tom’s Watch Bar is the home for NCAA-B (W)
URL:https://tomswatchbar.com/event/ncaa-b-w-finals-2/
LOCATION:ALL\, United States
CATEGORIES:NCAA-B (W)
END:VEVENT
BEGIN:VEVENT
DTSTART;TZID=America/New_York:20260406T130000
DTEND;TZID=America/New_York:20260406T130000
DTSTAMP:20260420T050343
CREATED:20260312T194931Z
LAST-MODIFIED:20260312T201459Z
UID:10009059-1775480400-1775480400@tomswatchbar.com
SUMMARY:NCAA-B (M):  Finals
DESCRIPTION:The Best Place to Watch NCAA-B (M):  Finals is at Tom’s Watch Bar! Tom’s Watch Bar is the home for NCAA-B (M)
URL:https://tomswatchbar.com/event/ncaa-b-m-finals-2/
LOCATION:ALL\, United States
CATEGORIES:NCAA-B (MENS)
END:VEVENT
END:VCALENDAR